
BEGIN:VCALENDAR
VERSION:2.0
PRODID:-//IVG - Instituto Vasselo Goldoni - ECPv6.15.20//NONSGML v1.0//EN
CALSCALE:GREGORIAN
METHOD:PUBLISH
X-ORIGINAL-URL:https://institutoivg.com.br
X-WR-CALDESC:Eventos para IVG - Instituto Vasselo Goldoni
REFRESH-INTERVAL;VALUE=DURATION:PT1H
X-Robots-Tag:noindex
X-PUBLISHED-TTL:PT1H
BEGIN:VTIMEZONE
TZID:America/Sao_Paulo
BEGIN:STANDARD
TZOFFSETFROM:-0200
TZOFFSETTO:-0300
TZNAME:-03
DTSTART:20190217T020000
END:STANDARD
END:VTIMEZONE
BEGIN:VEVENT
DTSTART;TZID=America/Sao_Paulo:20201121T093000
DTEND;TZID=America/Sao_Paulo:20201121T120000
DTSTAMP:20260423T205002
CREATED:20201120T173752Z
LAST-MODIFIED:20201120T173752Z
UID:2377-1605951000-1605960000@institutoivg.com.br
SUMMARY:Action Learning 20/11
DESCRIPTION:
URL:https://institutoivg.com.br/event/action-learning-20-11/
ATTACH;FMTTYPE=:
END:VEVENT
END:VCALENDAR