
BEGIN:VCALENDAR
VERSION:2.0
PRODID:-//IVG - Instituto Vasselo Goldoni - ECPv6.15.20//NONSGML v1.0//EN
CALSCALE:GREGORIAN
METHOD:PUBLISH
X-WR-CALNAME:IVG - Instituto Vasselo Goldoni
X-ORIGINAL-URL:https://institutoivg.com.br
X-WR-CALDESC:Eventos para IVG - Instituto Vasselo Goldoni
REFRESH-INTERVAL;VALUE=DURATION:PT1H
X-Robots-Tag:noindex
X-PUBLISHED-TTL:PT1H
BEGIN:VTIMEZONE
TZID:America/Sao_Paulo
BEGIN:STANDARD
TZOFFSETFROM:-0200
TZOFFSETTO:-0300
TZNAME:-03
DTSTART:20190217T020000
END:STANDARD
END:VTIMEZONE
BEGIN:VEVENT
DTSTART;TZID=America/Sao_Paulo:20201127T190000
DTEND;TZID=America/Sao_Paulo:20201127T210000
DTSTAMP:20260423T204514
CREATED:20201123T145230Z
LAST-MODIFIED:20201123T145230Z
UID:2396-1606503600-1606510800@institutoivg.com.br
SUMMARY:Encerramento Projeto Refugiadas
DESCRIPTION:
URL:https://institutoivg.com.br/event/encerramento-projeto-refugiadas/
ATTACH;FMTTYPE=:
END:VEVENT
END:VCALENDAR