
BEGIN:VCALENDAR
VERSION:2.0
PRODID:-//IVG - Instituto Vasselo Goldoni - ECPv6.15.20//NONSGML v1.0//EN
CALSCALE:GREGORIAN
METHOD:PUBLISH
X-ORIGINAL-URL:https://institutoivg.com.br
X-WR-CALDESC:Eventos para IVG - Instituto Vasselo Goldoni
REFRESH-INTERVAL;VALUE=DURATION:PT1H
X-Robots-Tag:noindex
X-PUBLISHED-TTL:PT1H
BEGIN:VTIMEZONE
TZID:America/Sao_Paulo
BEGIN:STANDARD
TZOFFSETFROM:-0300
TZOFFSETTO:-0300
TZNAME:-03
DTSTART:20200101T000000
END:STANDARD
END:VTIMEZONE
BEGIN:VEVENT
DTSTART;TZID=America/Sao_Paulo:20210317T200000
DTEND;TZID=America/Sao_Paulo:20210317T220000
DTSTAMP:20260423T134101
CREATED:20210318T112906Z
LAST-MODIFIED:20210318T112906Z
UID:2603-1616011200-1616018400@institutoivg.com.br
SUMMARY:MasterLive - Maetoria: Maternidade Atípica: Desafios\, Empatia\, Acolhimento e Amor
DESCRIPTION:
URL:https://institutoivg.com.br/event/masterlive-maetoria-maternidade-atipica-desafios-empatia-acolhimento-e-amor/
ATTACH;FMTTYPE=:
END:VEVENT
END:VCALENDAR