
BEGIN:VCALENDAR
VERSION:2.0
PRODID:-//IVG - Instituto Vasselo Goldoni - ECPv6.15.20//NONSGML v1.0//EN
CALSCALE:GREGORIAN
METHOD:PUBLISH
X-WR-CALNAME:IVG - Instituto Vasselo Goldoni
X-ORIGINAL-URL:https://institutoivg.com.br
X-WR-CALDESC:Eventos para IVG - Instituto Vasselo Goldoni
REFRESH-INTERVAL;VALUE=DURATION:PT1H
X-Robots-Tag:noindex
X-PUBLISHED-TTL:PT1H
BEGIN:VTIMEZONE
TZID:America/Sao_Paulo
BEGIN:STANDARD
TZOFFSETFROM:-0300
TZOFFSETTO:-0300
TZNAME:-03
DTSTART:20200101T000000
END:STANDARD
END:VTIMEZONE
BEGIN:VEVENT
DTSTART;TZID=America/Sao_Paulo:20210324T110000
DTEND;TZID=America/Sao_Paulo:20210324T153000
DTSTAMP:20260423T133857
CREATED:20210331T114637Z
LAST-MODIFIED:20210331T114637Z
UID:2760-1616583600-1616599800@institutoivg.com.br
SUMMARY:Masterlive - Maetoria: Inclusão\, Carreira e Maternidade
DESCRIPTION:
URL:https://institutoivg.com.br/event/masterlive-maetoria-inclusao-carreira-e-maternidade/
ATTACH;FMTTYPE=:
END:VEVENT
END:VCALENDAR