
BEGIN:VCALENDAR
VERSION:2.0
PRODID:-//IVG - Instituto Vasselo Goldoni - ECPv6.15.20//NONSGML v1.0//EN
CALSCALE:GREGORIAN
METHOD:PUBLISH
X-WR-CALNAME:IVG - Instituto Vasselo Goldoni
X-ORIGINAL-URL:https://institutoivg.com.br
X-WR-CALDESC:Eventos para IVG - Instituto Vasselo Goldoni
REFRESH-INTERVAL;VALUE=DURATION:PT1H
X-Robots-Tag:noindex
X-PUBLISHED-TTL:PT1H
BEGIN:VTIMEZONE
TZID:America/Sao_Paulo
BEGIN:STANDARD
TZOFFSETFROM:-0300
TZOFFSETTO:-0300
TZNAME:-03
DTSTART:20200101T000000
END:STANDARD
END:VTIMEZONE
BEGIN:VEVENT
DTSTART;TZID=America/Sao_Paulo:20210517T170000
DTEND;TZID=America/Sao_Paulo:20210517T190000
DTSTAMP:20260423T101614
CREATED:20210524T134847Z
LAST-MODIFIED:20210524T134847Z
UID:2903-1621270800-1621278000@institutoivg.com.br
SUMMARY:Live - Abertura 6ª Edição (Mentores)
DESCRIPTION:
URL:https://institutoivg.com.br/event/live-abertura-6a-edicao-mentores/
ATTACH;FMTTYPE=:
END:VEVENT
END:VCALENDAR