
BEGIN:VCALENDAR
VERSION:2.0
PRODID:-//IVG - Instituto Vasselo Goldoni - ECPv6.15.20//NONSGML v1.0//EN
CALSCALE:GREGORIAN
METHOD:PUBLISH
X-ORIGINAL-URL:https://institutoivg.com.br
X-WR-CALDESC:Eventos para IVG - Instituto Vasselo Goldoni
REFRESH-INTERVAL;VALUE=DURATION:PT1H
X-Robots-Tag:noindex
X-PUBLISHED-TTL:PT1H
BEGIN:VTIMEZONE
TZID:America/Sao_Paulo
BEGIN:STANDARD
TZOFFSETFROM:-0300
TZOFFSETTO:-0300
TZNAME:-03
DTSTART:20200101T000000
END:STANDARD
END:VTIMEZONE
BEGIN:VEVENT
DTSTART;TZID=America/Sao_Paulo:20210520T190000
DTEND;TZID=America/Sao_Paulo:20210520T210000
DTSTAMP:20260423T101803
CREATED:20210524T133200Z
LAST-MODIFIED:20210524T133200Z
UID:2895-1621537200-1621544400@institutoivg.com.br
SUMMARY:NÓS POR ELAS - Masterlive - Networking
DESCRIPTION:
URL:https://institutoivg.com.br/event/masterlive-networking/
ATTACH;FMTTYPE=:
END:VEVENT
END:VCALENDAR