
BEGIN:VCALENDAR
VERSION:2.0
PRODID:-//IVG - Instituto Vasselo Goldoni - ECPv6.15.20//NONSGML v1.0//EN
CALSCALE:GREGORIAN
METHOD:PUBLISH
X-ORIGINAL-URL:https://institutoivg.com.br
X-WR-CALDESC:Eventos para IVG - Instituto Vasselo Goldoni
REFRESH-INTERVAL;VALUE=DURATION:PT1H
X-Robots-Tag:noindex
X-PUBLISHED-TTL:PT1H
BEGIN:VTIMEZONE
TZID:America/Sao_Paulo
BEGIN:STANDARD
TZOFFSETFROM:-0300
TZOFFSETTO:-0300
TZNAME:-03
DTSTART:20200101T000000
END:STANDARD
END:VTIMEZONE
BEGIN:VEVENT
DTSTART;TZID=America/Sao_Paulo:20210830T190000
DTEND;TZID=America/Sao_Paulo:20210830T223000
DTSTAMP:20260423T033527
CREATED:20210831T142148Z
LAST-MODIFIED:20210831T142148Z
UID:5762-1630350000-1630362600@institutoivg.com.br
SUMMARY:Live Surpresa de Boas Vindas - 8ª Edição
DESCRIPTION:
URL:https://institutoivg.com.br/event/live-surpresa-de-boas-vindas-8a-edicao/
ATTACH;FMTTYPE=:
END:VEVENT
END:VCALENDAR