
BEGIN:VCALENDAR
VERSION:2.0
PRODID:-//IVG - Instituto Vasselo Goldoni - ECPv6.15.20//NONSGML v1.0//EN
CALSCALE:GREGORIAN
METHOD:PUBLISH
X-ORIGINAL-URL:https://institutoivg.com.br
X-WR-CALDESC:Eventos para IVG - Instituto Vasselo Goldoni
REFRESH-INTERVAL;VALUE=DURATION:PT1H
X-Robots-Tag:noindex
X-PUBLISHED-TTL:PT1H
BEGIN:VTIMEZONE
TZID:America/Sao_Paulo
BEGIN:STANDARD
TZOFFSETFROM:-0300
TZOFFSETTO:-0300
TZNAME:-03
DTSTART:20200101T000000
END:STANDARD
END:VTIMEZONE
BEGIN:VEVENT
DTSTART;TZID=America/Sao_Paulo:20210914T190000
DTEND;TZID=America/Sao_Paulo:20210914T223000
DTSTAMP:20260423T033535
CREATED:20210915T150334Z
LAST-MODIFIED:20210915T150334Z
UID:3814-1631646000-1631658600@institutoivg.com.br
SUMMARY:NÓS POR ELAS - Aula Live - Comunicação Não Violenta
DESCRIPTION:Assista aqui \nhttps://us02web.zoom.us/rec/share/c9oFMl0n93rQ6c58kxhM5a8T6kBCejOd-_gy2xFNHc3ZdDQO6_MTUwSXk-3-8j1C.j-VPpUIEiS5I6bAF?startTime=1631657441000
URL:https://institutoivg.com.br/event/nos-por-elas-aula-live-comunicacao-nao-violenta/
ATTACH;FMTTYPE=:
END:VEVENT
END:VCALENDAR