
BEGIN:VCALENDAR
VERSION:2.0
PRODID:-//IVG - Instituto Vasselo Goldoni - ECPv6.15.20//NONSGML v1.0//EN
CALSCALE:GREGORIAN
METHOD:PUBLISH
X-ORIGINAL-URL:https://institutoivg.com.br
X-WR-CALDESC:Eventos para IVG - Instituto Vasselo Goldoni
REFRESH-INTERVAL;VALUE=DURATION:PT1H
X-Robots-Tag:noindex
X-PUBLISHED-TTL:PT1H
BEGIN:VTIMEZONE
TZID:America/Sao_Paulo
BEGIN:STANDARD
TZOFFSETFROM:-0300
TZOFFSETTO:-0300
TZNAME:-03
DTSTART:20200101T000000
END:STANDARD
END:VTIMEZONE
BEGIN:VEVENT
DTSTART;TZID=America/Sao_Paulo:20210921T190000
DTEND;TZID=America/Sao_Paulo:20210921T223000
DTSTAMP:20260423T033610
CREATED:20210923T123400Z
LAST-MODIFIED:20210923T123400Z
UID:3846-1632250800-1632263400@institutoivg.com.br
SUMMARY:NÓS POR ELAS - Aula Live - Protagonismo Feminino
DESCRIPTION:Assista aqui \nhttps://us02web.zoom.us/rec/share/yhgeh5r42eX26WsH5XQM3M4fBDt5gdtCL3q8Hg0qKoiUq2Jt9dfADybSq9ZXhkAC.O4W4OQG2eLloPqEU?startTime=1632258341000
URL:https://institutoivg.com.br/event/nos-por-elas-aula-live-protagonismo-feminino/
ATTACH;FMTTYPE=:
END:VEVENT
END:VCALENDAR