
BEGIN:VCALENDAR
VERSION:2.0
PRODID:-//IVG - Instituto Vasselo Goldoni - ECPv6.15.20//NONSGML v1.0//EN
CALSCALE:GREGORIAN
METHOD:PUBLISH
X-ORIGINAL-URL:https://institutoivg.com.br
X-WR-CALDESC:Eventos para IVG - Instituto Vasselo Goldoni
REFRESH-INTERVAL;VALUE=DURATION:PT1H
X-Robots-Tag:noindex
X-PUBLISHED-TTL:PT1H
BEGIN:VTIMEZONE
TZID:America/Sao_Paulo
BEGIN:STANDARD
TZOFFSETFROM:-0300
TZOFFSETTO:-0300
TZNAME:-03
DTSTART:20200101T000000
END:STANDARD
END:VTIMEZONE
BEGIN:VEVENT
DTSTART;TZID=America/Sao_Paulo:20210923T190000
DTEND;TZID=America/Sao_Paulo:20210923T223000
DTSTAMP:20260423T041427
CREATED:20210917T105437Z
LAST-MODIFIED:20210917T105437Z
UID:3821-1632423600-1632436200@institutoivg.com.br
SUMMARY:MASTERLIVE - Sindrome da Impostora
DESCRIPTION:Veja nosso calendário de lives aqui e já garanta sua participação nas próximas
URL:https://institutoivg.com.br/event/masterlive-sindrome-da-impostora/
ATTACH;FMTTYPE=:
END:VEVENT
END:VCALENDAR