
BEGIN:VCALENDAR
VERSION:2.0
PRODID:-//IVG - Instituto Vasselo Goldoni - ECPv6.15.20//NONSGML v1.0//EN
CALSCALE:GREGORIAN
METHOD:PUBLISH
X-WR-CALNAME:IVG - Instituto Vasselo Goldoni
X-ORIGINAL-URL:https://institutoivg.com.br
X-WR-CALDESC:Eventos para IVG - Instituto Vasselo Goldoni
REFRESH-INTERVAL;VALUE=DURATION:PT1H
X-Robots-Tag:noindex
X-PUBLISHED-TTL:PT1H
BEGIN:VTIMEZONE
TZID:America/Sao_Paulo
BEGIN:STANDARD
TZOFFSETFROM:-0300
TZOFFSETTO:-0300
TZNAME:-03
DTSTART:20200101T000000
END:STANDARD
END:VTIMEZONE
BEGIN:VEVENT
DTSTART;TZID=America/Sao_Paulo:20211202T190000
DTEND;TZID=America/Sao_Paulo:20211202T210000
DTSTAMP:20260422T222523
CREATED:20211207T100715Z
LAST-MODIFIED:20211207T100715Z
UID:4388-1638471600-1638478800@institutoivg.com.br
SUMMARY:NÓS POR ELAS - Aula Live - Mulher que Inspira
DESCRIPTION:
URL:https://institutoivg.com.br/event/nos-por-elas-aula-live-mulher-que-inspira-2/
ATTACH;FMTTYPE=:
END:VEVENT
END:VCALENDAR