
BEGIN:VCALENDAR
VERSION:2.0
PRODID:-//IVG - Instituto Vasselo Goldoni - ECPv6.15.20//NONSGML v1.0//EN
CALSCALE:GREGORIAN
METHOD:PUBLISH
X-ORIGINAL-URL:https://institutoivg.com.br
X-WR-CALDESC:Eventos para IVG - Instituto Vasselo Goldoni
REFRESH-INTERVAL;VALUE=DURATION:PT1H
X-Robots-Tag:noindex
X-PUBLISHED-TTL:PT1H
BEGIN:VTIMEZONE
TZID:America/Sao_Paulo
BEGIN:STANDARD
TZOFFSETFROM:-0300
TZOFFSETTO:-0300
TZNAME:-03
DTSTART:20210101T000000
END:STANDARD
END:VTIMEZONE
BEGIN:VEVENT
DTSTART;TZID=America/Sao_Paulo:20220331T190000
DTEND;TZID=America/Sao_Paulo:20220331T210000
DTSTAMP:20260422T160236
CREATED:20220405T011706Z
LAST-MODIFIED:20220405T011706Z
UID:4866-1648753200-1648760400@institutoivg.com.br
SUMMARY:NÓS POR ELAS - Boas Vindas 11ª Edição
DESCRIPTION:Olá Mentores!\nAmanhã\, quinta-feira\, 31 de março às 19h teremos nossa PRIMEIRA LIVE para as MENTORADAS e gostaríamos de convida-los a participar! \nNessa LIVE iremos responder dúvidas e apresentar o programa Nós por Elas. \nhttps://us02web.zoom.us/j/84484256244?pwd=ZklFZXVBcTc4U3BOdkNTNW4xbEZnQT09 \nID da reunião: 844 8425 6244\nSenha de acesso: 123456 \nQuem quiser participar\, sinta-se a vontade. Todxs serão bem-vindxs!\n🤩✨
URL:https://institutoivg.com.br/event/nos-por-elas-boas-vindas-11a-edicao/
ATTACH;FMTTYPE=:
END:VEVENT
END:VCALENDAR