
BEGIN:VCALENDAR
VERSION:2.0
PRODID:-//IVG - Instituto Vasselo Goldoni - ECPv6.15.20//NONSGML v1.0//EN
CALSCALE:GREGORIAN
METHOD:PUBLISH
X-WR-CALNAME:IVG - Instituto Vasselo Goldoni
X-ORIGINAL-URL:https://institutoivg.com.br
X-WR-CALDESC:Eventos para IVG - Instituto Vasselo Goldoni
REFRESH-INTERVAL;VALUE=DURATION:PT1H
X-Robots-Tag:noindex
X-PUBLISHED-TTL:PT1H
BEGIN:VTIMEZONE
TZID:America/Sao_Paulo
BEGIN:STANDARD
TZOFFSETFROM:-0300
TZOFFSETTO:-0300
TZNAME:-03
DTSTART:20210101T000000
END:STANDARD
END:VTIMEZONE
BEGIN:VEVENT
DTSTART;TZID=America/Sao_Paulo:20220411T190000
DTEND;TZID=America/Sao_Paulo:20220411T210000
DTSTAMP:20260422T154851
CREATED:20220418T124457Z
LAST-MODIFIED:20220418T124457Z
UID:4892-1649703600-1649710800@institutoivg.com.br
SUMMARY:NÓS POR ELAS - Liderança Feminina
DESCRIPTION:Hoje teremos a live será com Livia Mandelli sobre os Liderança Feminina! \nEstá é uma LIVE exclusiva do Programa e obrigatória para as MENTORADAS e convidamos vocês a participarem. \n⏰ Às 19h – via Zoom\nhttps://us02web.zoom.us/j/85827969625?pwd=aXRGWWF6SU1qM3NzRmR0S3FGVmdBQT09\nID da reunião: 858 2796 9625\nSenha de acesso: 123456 \nBoa semana 🥰✨
URL:https://institutoivg.com.br/event/nos-por-elas-lideranca-feminina/
ATTACH;FMTTYPE=:
END:VEVENT
END:VCALENDAR