
BEGIN:VCALENDAR
VERSION:2.0
PRODID:-//IVG - Instituto Vasselo Goldoni - ECPv6.15.20//NONSGML v1.0//EN
CALSCALE:GREGORIAN
METHOD:PUBLISH
X-ORIGINAL-URL:https://institutoivg.com.br
X-WR-CALDESC:Eventos para IVG - Instituto Vasselo Goldoni
REFRESH-INTERVAL;VALUE=DURATION:PT1H
X-Robots-Tag:noindex
X-PUBLISHED-TTL:PT1H
BEGIN:VTIMEZONE
TZID:America/Sao_Paulo
BEGIN:STANDARD
TZOFFSETFROM:-0300
TZOFFSETTO:-0300
TZNAME:-03
DTSTART:20210101T000000
END:STANDARD
END:VTIMEZONE
BEGIN:VEVENT
DTSTART;TZID=America/Sao_Paulo:20220414T190000
DTEND;TZID=America/Sao_Paulo:20220414T210000
DTSTAMP:20260422T155143
CREATED:20220418T124840Z
LAST-MODIFIED:20220418T124840Z
UID:4898-1649962800-1649970000@institutoivg.com.br
SUMMARY:NÓS POR ELAS - Propósito
DESCRIPTION:Hoje a live será com Ricardo Gomes sobre Propósito! \nEstá é uma LIVE exclusiva do Programa e obrigatória para as MENTORADAS e convidamos vocês a participarem. \n⏰ Às 19h – via Zoom\nhttps://us02web.zoom.us/j/89018401901?pwd=MEQ5Y2RQZ0RpWDZjdG9yT1llZ0tJUT09\nID da reunião: 890 1840 1901\nSenha de acesso: 123456 \nBoa semana 🥰✨
URL:https://institutoivg.com.br/event/nos-por-elas-proposito/
ATTACH;FMTTYPE=:
END:VEVENT
END:VCALENDAR