
BEGIN:VCALENDAR
VERSION:2.0
PRODID:-//IVG - Instituto Vasselo Goldoni - ECPv6.15.20//NONSGML v1.0//EN
CALSCALE:GREGORIAN
METHOD:PUBLISH
X-WR-CALNAME:IVG - Instituto Vasselo Goldoni
X-ORIGINAL-URL:https://institutoivg.com.br
X-WR-CALDESC:Eventos para IVG - Instituto Vasselo Goldoni
REFRESH-INTERVAL;VALUE=DURATION:PT1H
X-Robots-Tag:noindex
X-PUBLISHED-TTL:PT1H
BEGIN:VTIMEZONE
TZID:America/Sao_Paulo
BEGIN:STANDARD
TZOFFSETFROM:-0300
TZOFFSETTO:-0300
TZNAME:-03
DTSTART:20210101T000000
END:STANDARD
END:VTIMEZONE
BEGIN:VEVENT
DTSTART;TZID=America/Sao_Paulo:20220517T190000
DTEND;TZID=America/Sao_Paulo:20220517T210000
DTSTAMP:20260422T134729
CREATED:20220519T133952Z
LAST-MODIFIED:20220519T133952Z
UID:5112-1652814000-1652821200@institutoivg.com.br
SUMMARY:MAETORIA - Quem é você na família nuclear expandida - 3ª Edição
DESCRIPTION:
URL:https://institutoivg.com.br/event/maetoria-quem-e-voce-na-familia-nuclear-expandida-3a-edicao/
ATTACH;FMTTYPE=:
END:VEVENT
END:VCALENDAR