
BEGIN:VCALENDAR
VERSION:2.0
PRODID:-//IVG - Instituto Vasselo Goldoni - ECPv6.15.20//NONSGML v1.0//EN
CALSCALE:GREGORIAN
METHOD:PUBLISH
X-WR-CALNAME:IVG - Instituto Vasselo Goldoni
X-ORIGINAL-URL:https://institutoivg.com.br
X-WR-CALDESC:Eventos para IVG - Instituto Vasselo Goldoni
REFRESH-INTERVAL;VALUE=DURATION:PT1H
X-Robots-Tag:noindex
X-PUBLISHED-TTL:PT1H
BEGIN:VTIMEZONE
TZID:America/Sao_Paulo
BEGIN:STANDARD
TZOFFSETFROM:-0300
TZOFFSETTO:-0300
TZNAME:-03
DTSTART:20210101T000000
END:STANDARD
END:VTIMEZONE
BEGIN:VEVENT
DTSTART;TZID=America/Sao_Paulo:20220526T190000
DTEND;TZID=America/Sao_Paulo:20220526T210000
DTSTAMP:20260422T134806
CREATED:20220527T003916Z
LAST-MODIFIED:20220527T003916Z
UID:5120-1653591600-1653598800@institutoivg.com.br
SUMMARY:MAETORIA - O poder de saber o que você não sabe - 3ª Edição
DESCRIPTION:
URL:https://institutoivg.com.br/event/maetoria-o-poder-de-saber-o-que-voce-nao-sabe-3a-edicao/
ATTACH;FMTTYPE=:
END:VEVENT
BEGIN:VEVENT
DTSTART;TZID=America/Sao_Paulo:20220526T190000
DTEND;TZID=America/Sao_Paulo:20220526T210000
DTSTAMP:20260422T134806
CREATED:20220530T164349Z
LAST-MODIFIED:20220530T164349Z
UID:5123-1653591600-1653598800@institutoivg.com.br
SUMMARY:Abertura para Mentores da 12ª Edição do Programa Nós por Elas
DESCRIPTION:Olá\, Mentores! \nChegou o dia da nossa LIVE de abertura EXCLUSIVA para Mentores da 12ª Edição do Programa de #MentoriaParaMulheres – “Nós por Elas” com nossa querida Rosa Alba Bernhoeft. 🤩 \nVamos falar sobre a mentoria\, sobre as mentoradas\, comprometimento\, motivação e queremos você conosco para realizar este plano de ação. \n🕘 Hoje\, quinta-feira (26/05)\, a partir das 19h no Zoom. \n⬇️ Acesse o link abaixo:\nhttps://us02web.zoom.us/j/82626899692?pwd=kWPqkkIzWS6yjTcJYmkKQROB7R3sU8.1 \n➡️ ID da reunião: 826 2689 9692\n➡️ Senha de acesso: 748728 \nEntão não esqueça\, estamos te esperando! 💕
URL:https://institutoivg.com.br/event/abertura-para-mentores-da-12a-edicao-do-programa-nos-por-elas/
ATTACH;FMTTYPE=:
END:VEVENT
END:VCALENDAR