
BEGIN:VCALENDAR
VERSION:2.0
PRODID:-//IVG - Instituto Vasselo Goldoni - ECPv6.15.20//NONSGML v1.0//EN
CALSCALE:GREGORIAN
METHOD:PUBLISH
X-ORIGINAL-URL:https://institutoivg.com.br
X-WR-CALDESC:Eventos para IVG - Instituto Vasselo Goldoni
REFRESH-INTERVAL;VALUE=DURATION:PT1H
X-Robots-Tag:noindex
X-PUBLISHED-TTL:PT1H
BEGIN:VTIMEZONE
TZID:America/Sao_Paulo
BEGIN:STANDARD
TZOFFSETFROM:-0300
TZOFFSETTO:-0300
TZNAME:-03
DTSTART:20210101T000000
END:STANDARD
END:VTIMEZONE
BEGIN:VEVENT
DTSTART;TZID=America/Sao_Paulo:20220609T190000
DTEND;TZID=America/Sao_Paulo:20220609T210000
DTSTAMP:20260422T120555
CREATED:20220613T113431Z
LAST-MODIFIED:20220613T113431Z
UID:5221-1654801200-1654808400@institutoivg.com.br
SUMMARY:NÓS POR ELAS - Pequenas Palavras\, Grandes Transformações
DESCRIPTION:
URL:https://institutoivg.com.br/event/nos-por-elas-pequenas-palavras-grandes-transformacoes/
ATTACH;FMTTYPE=image/png:https://institutoivg.com.br/wp-content/uploads/2022/08/bg-abstract21.png
END:VEVENT
END:VCALENDAR