
BEGIN:VCALENDAR
VERSION:2.0
PRODID:-//IVG - Instituto Vasselo Goldoni - ECPv6.15.20//NONSGML v1.0//EN
CALSCALE:GREGORIAN
METHOD:PUBLISH
X-WR-CALNAME:IVG - Instituto Vasselo Goldoni
X-ORIGINAL-URL:https://institutoivg.com.br
X-WR-CALDESC:Eventos para IVG - Instituto Vasselo Goldoni
REFRESH-INTERVAL;VALUE=DURATION:PT1H
X-Robots-Tag:noindex
X-PUBLISHED-TTL:PT1H
BEGIN:VTIMEZONE
TZID:America/Sao_Paulo
BEGIN:STANDARD
TZOFFSETFROM:-0300
TZOFFSETTO:-0300
TZNAME:-03
DTSTART:20210101T000000
END:STANDARD
END:VTIMEZONE
BEGIN:VEVENT
DTSTART;TZID=America/Sao_Paulo:20220620T190000
DTEND;TZID=America/Sao_Paulo:20220620T210000
DTSTAMP:20260422T120201
CREATED:20220623T184258Z
LAST-MODIFIED:20220623T184258Z
UID:5247-1655751600-1655758800@institutoivg.com.br
SUMMARY:NÓS POR ELAS - Felicidade e Bem Estar
DESCRIPTION:
URL:https://institutoivg.com.br/event/nos-por-elas-felicidade-e-bem-estar/
ATTACH;FMTTYPE=:
END:VEVENT
END:VCALENDAR