
BEGIN:VCALENDAR
VERSION:2.0
PRODID:-//IVG - Instituto Vasselo Goldoni - ECPv6.15.20//NONSGML v1.0//EN
CALSCALE:GREGORIAN
METHOD:PUBLISH
X-WR-CALNAME:IVG - Instituto Vasselo Goldoni
X-ORIGINAL-URL:https://institutoivg.com.br
X-WR-CALDESC:Eventos para IVG - Instituto Vasselo Goldoni
REFRESH-INTERVAL;VALUE=DURATION:PT1H
X-Robots-Tag:noindex
X-PUBLISHED-TTL:PT1H
BEGIN:VTIMEZONE
TZID:America/Sao_Paulo
BEGIN:STANDARD
TZOFFSETFROM:-0300
TZOFFSETTO:-0300
TZNAME:-03
DTSTART:20210101T000000
END:STANDARD
END:VTIMEZONE
BEGIN:VEVENT
DTSTART;TZID=America/Sao_Paulo:20220725T190000
DTEND;TZID=America/Sao_Paulo:20220725T210000
DTSTAMP:20260422T102115
CREATED:20220727T173905Z
LAST-MODIFIED:20220727T173905Z
UID:5322-1658775600-1658782800@institutoivg.com.br
SUMMARY:NÓS POR ELAS - Boas Vindas Mentores 13ª Edição
DESCRIPTION:
URL:https://institutoivg.com.br/event/nos-por-elas-boas-vindas-mentores-13a-edicao/
ATTACH;FMTTYPE=:
END:VEVENT
END:VCALENDAR