
BEGIN:VCALENDAR
VERSION:2.0
PRODID:-//IVG - Instituto Vasselo Goldoni - ECPv6.15.20//NONSGML v1.0//EN
CALSCALE:GREGORIAN
METHOD:PUBLISH
X-ORIGINAL-URL:https://institutoivg.com.br
X-WR-CALDESC:Eventos para IVG - Instituto Vasselo Goldoni
REFRESH-INTERVAL;VALUE=DURATION:PT1H
X-Robots-Tag:noindex
X-PUBLISHED-TTL:PT1H
BEGIN:VTIMEZONE
TZID:America/Sao_Paulo
BEGIN:STANDARD
TZOFFSETFROM:-0300
TZOFFSETTO:-0300
TZNAME:-03
DTSTART:20210101T000000
END:STANDARD
END:VTIMEZONE
BEGIN:VEVENT
DTSTART;TZID=America/Sao_Paulo:20220804T190000
DTEND;TZID=America/Sao_Paulo:20220804T210000
DTSTAMP:20260422T090814
CREATED:20220808T124424Z
LAST-MODIFIED:20220808T124424Z
UID:5370-1659639600-1659646800@institutoivg.com.br
SUMMARY:NÓS POR ELAS - LinkedIn
DESCRIPTION:Olá Mentores! 👩‍🏫👨‍🏫 \nHoje\, na LIVE sobre LinkedIN\, as Nossas Mentoradas terão a honra de poderem aprender com a Especialista em Linkedin\, Carol Dostal e a Líder de RH – Divisão de Operações do Linkedin Brasil\, Vânia Cagnassi\, como usar essa ferramenta da melhor forma.\nE\, teremos a presença\, também\, da querida Salete Deon – Sócia e Especialista em Gestão de Carreira e Desenvolvimento de Lideranças na Unblur Consultoria\, como nossa Anfitriã. \nVocês\, Mentores\, querem saber\, também\, como usar o Linkedin de forma estratégica e eficaz? 🤩 \nEntão\, bora com a gente e se programe! A sua presença é muito importante\, também! 🤗
URL:https://institutoivg.com.br/event/nos-por-elas-linkedin-2/
ATTACH;FMTTYPE=:
END:VEVENT
END:VCALENDAR