
BEGIN:VCALENDAR
VERSION:2.0
PRODID:-//IVG - Instituto Vasselo Goldoni - ECPv6.15.20//NONSGML v1.0//EN
CALSCALE:GREGORIAN
METHOD:PUBLISH
X-WR-CALNAME:IVG - Instituto Vasselo Goldoni
X-ORIGINAL-URL:https://institutoivg.com.br
X-WR-CALDESC:Eventos para IVG - Instituto Vasselo Goldoni
REFRESH-INTERVAL;VALUE=DURATION:PT1H
X-Robots-Tag:noindex
X-PUBLISHED-TTL:PT1H
BEGIN:VTIMEZONE
TZID:America/Sao_Paulo
BEGIN:STANDARD
TZOFFSETFROM:-0300
TZOFFSETTO:-0300
TZNAME:-03
DTSTART:20210101T000000
END:STANDARD
END:VTIMEZONE
BEGIN:VEVENT
DTSTART;TZID=America/Sao_Paulo:20220817T190000
DTEND;TZID=America/Sao_Paulo:20220817T210000
DTSTAMP:20260422T083050
CREATED:20220819T142119Z
LAST-MODIFIED:20220819T142119Z
UID:5388-1660762800-1660770000@institutoivg.com.br
SUMMARY:NÓS POR ELAS - O Sucesso vem de seus Pontos Fortes
DESCRIPTION:✨ HOJE\, MASTER LIVE 🕘 – O sucesso vem de seus pontos fortes! \nOlá Mentores! 👨‍🏫👩‍🏫\nComo diz a nossa querida Patrícia Fauth: “Todos temos coisas que fazemos naturalmente bem. E é exatamente aí que está nossa maior chance de sucesso. E\, quando investimos nesses talentos e os transformamos em pontos fortes\, nos tornamos capazes de gerar resultados extraordinários de forma consistente.” \nIncrível\, né? 🤩 \nEntão\, hoje na nossa MASTER LIVE ABERTA\, que será conduzida por essa incrível Empreendedora\, Coach de Pontos Fortes e Mentora de Líderes\, Patrícia Fauth\, teremos a oportunidade de descobrir como.\nE\, junto a nossa querida Livia Zillo – Expert em Desenvolvimento Humano e Mentoria de Carreira\, que estará como nossa Anfitriã\, convidamos vocês Mentores para estarem conosco. 🤗
URL:https://institutoivg.com.br/event/nos-por-elas-o-sucesso-vem-de-seus-pontos-fortes/
ATTACH;FMTTYPE=image/png:https://institutoivg.com.br/wp-content/uploads/2022/10/registered.png
END:VEVENT
END:VCALENDAR