
BEGIN:VCALENDAR
VERSION:2.0
PRODID:-//IVG - Instituto Vasselo Goldoni - ECPv6.15.20//NONSGML v1.0//EN
CALSCALE:GREGORIAN
METHOD:PUBLISH
X-ORIGINAL-URL:https://institutoivg.com.br
X-WR-CALDESC:Eventos para IVG - Instituto Vasselo Goldoni
REFRESH-INTERVAL;VALUE=DURATION:PT1H
X-Robots-Tag:noindex
X-PUBLISHED-TTL:PT1H
BEGIN:VTIMEZONE
TZID:America/Sao_Paulo
BEGIN:STANDARD
TZOFFSETFROM:-0300
TZOFFSETTO:-0300
TZNAME:-03
DTSTART:20210101T000000
END:STANDARD
END:VTIMEZONE
BEGIN:VEVENT
DTSTART;TZID=America/Sao_Paulo:20220818T190000
DTEND;TZID=America/Sao_Paulo:20220818T210000
DTSTAMP:20260422T083510
CREATED:20220819T142326Z
LAST-MODIFIED:20220819T142326Z
UID:5776-1660849200-1660856400@institutoivg.com.br
SUMMARY:NÓS POR ELAS - Fenômeno da Impostora
DESCRIPTION:✨LIVE DE HOJE 🕘 – Fenômeno da Impostora 🫣\nOlá\, Mentores! 👨‍🏫👩‍🏫\nNa nossa LIVE de Hoje as Mentoradas terão a oportunidade de aprender como nós\, mulheres\, podemos superar a síndrome da impostora. 🤩\nEntão\, vamos junto com as Nossas Mentoradas participar dessa live que será conduzida pela nossa querida Embaixadora do Programa Nós Por Elas\, Mafoane Odara\, e entender mais sobre esse fenômeno que está presente no dia a dia.✨
URL:https://institutoivg.com.br/event/nos-por-elas-fenomeno-da-impostora-2/
ATTACH;FMTTYPE=image/png:https://institutoivg.com.br/wp-content/uploads/2022/10/target2.png
END:VEVENT
END:VCALENDAR