
BEGIN:VCALENDAR
VERSION:2.0
PRODID:-//IVG - Instituto Vasselo Goldoni - ECPv6.15.20//NONSGML v1.0//EN
CALSCALE:GREGORIAN
METHOD:PUBLISH
X-ORIGINAL-URL:https://institutoivg.com.br
X-WR-CALDESC:Eventos para IVG - Instituto Vasselo Goldoni
REFRESH-INTERVAL;VALUE=DURATION:PT1H
X-Robots-Tag:noindex
X-PUBLISHED-TTL:PT1H
BEGIN:VTIMEZONE
TZID:America/Sao_Paulo
BEGIN:STANDARD
TZOFFSETFROM:-0300
TZOFFSETTO:-0300
TZNAME:-03
DTSTART:20210101T000000
END:STANDARD
END:VTIMEZONE
BEGIN:VEVENT
DTSTART;TZID=America/Sao_Paulo:20220823T190000
DTEND;TZID=America/Sao_Paulo:20220823T210000
DTSTAMP:20260422T083556
CREATED:20220824T155650Z
LAST-MODIFIED:20221223T211533Z
UID:5397-1661281200-1661288400@institutoivg.com.br
SUMMARY:NÓS POR ELAS - Pequenas Palavras\, GRANDES Transformações
DESCRIPTION:✨ LIVE DE HOJE 🕘 – Pequenas Palavras\, GRANDES Transformações 💥 \nOlá\, Mentores! 👩‍🏫👨‍🏫 \nHoje as Nossas Mentoradas terão a honra de poder aprender com o fabuloso Eduardo Zugaib\, Escritor\, Palestrante e Educador Corporativo\, como praticar efetivamente uma Transformação em nossas vidas com Pequenas Palavras.\nE como Anfitriã\, contaremos com a nossa querida Kennya Pimentel\, Advogada. \nVamos reconhecer melhor o que é nosso\, aceitar e\, com esse acesso\, trazer Transformações de modo mais leve e mais fluído? 💞\nEntão\, bora estarmos\, juntos\, com as Mentoradas nessa “Transformação”! 🤜🏼🤛🏼🤗 \n🔔 Se programe e prepare-se\, sua presença é muito importante para elas\, também! 👩‍🏫👨‍🏫👩 \n📆 Hoje\, 23 de Agosto (terça-feira)\n⏰ Às 19h (horário de Brasília)
URL:https://institutoivg.com.br/event/nos-por-elas-pequenas-palavras-grandes-transformacoes-2/
ATTACH;FMTTYPE=image/jpeg:https://institutoivg.com.br/wp-content/uploads/2022/08/npe-pequenas-palavas-grandestransformacoes-agosto.jpeg
END:VEVENT
END:VCALENDAR