
BEGIN:VCALENDAR
VERSION:2.0
PRODID:-//IVG - Instituto Vasselo Goldoni - ECPv6.15.20//NONSGML v1.0//EN
CALSCALE:GREGORIAN
METHOD:PUBLISH
X-WR-CALNAME:IVG - Instituto Vasselo Goldoni
X-ORIGINAL-URL:https://institutoivg.com.br
X-WR-CALDESC:Eventos para IVG - Instituto Vasselo Goldoni
REFRESH-INTERVAL;VALUE=DURATION:PT1H
X-Robots-Tag:noindex
X-PUBLISHED-TTL:PT1H
BEGIN:VTIMEZONE
TZID:America/Sao_Paulo
BEGIN:STANDARD
TZOFFSETFROM:-0300
TZOFFSETTO:-0300
TZNAME:-03
DTSTART:20210101T000000
END:STANDARD
END:VTIMEZONE
BEGIN:VEVENT
DTSTART;TZID=America/Sao_Paulo:20220824T190000
DTEND;TZID=America/Sao_Paulo:20220824T210000
DTSTAMP:20260422T092957
CREATED:20220830T143846Z
LAST-MODIFIED:20221223T211453Z
UID:5440-1661367600-1661374800@institutoivg.com.br
SUMMARY:NÓS POR ELAS - Como Impactar o Mundo com a minha Biografia!
DESCRIPTION:✨ MASTER LIVE – Como Impactar o Mundo com a minha Biografia!\nOlá\, Mentores! 👨‍🏫👩‍🏫 \nHoje as NOSSAS MENTORADAS\, terão a oportunidade de entender sobre a exclusiva capacidade humana de observar e transformar a si mesmo e a própria história\, com a nossa querida Dulce Ribeiro. Aprender a olhar a vida em ciclos de 7 anos (septênios)\, identificando o que é comum a todos os seres humanos e o que é individual\, de forma a conectar com o passado\, integrando-o ao presente. 🤩 \nEntão\, bora pegar caneta e papel✍️📖 e participar\, junto\, com as Mentoradas\, dessa MASTER LIVE que será conduzida por essa incrível Coach\, Professora e Aconselhadora Biográfica\, Dulce Ribeiro.\nTeremos\, também\, a presença da nossa amada Mariana Arruti\, Sócia Diretora na Care Solutions\, como Anfitriã. \n🔔 Se programe e prepare-se para uma noite “Biográfica” de sucesso!
URL:https://institutoivg.com.br/event/como-impactar-o-mundo-com-a-minha-biografia/
ATTACH;FMTTYPE=image/jpeg:https://institutoivg.com.br/wp-content/uploads/2022/08/npe-live-impactar-o-mundo-biografia-agosto.jpeg
END:VEVENT
END:VCALENDAR