
BEGIN:VCALENDAR
VERSION:2.0
PRODID:-//IVG - Instituto Vasselo Goldoni - ECPv6.15.20//NONSGML v1.0//EN
CALSCALE:GREGORIAN
METHOD:PUBLISH
X-ORIGINAL-URL:https://institutoivg.com.br
X-WR-CALDESC:Eventos para IVG - Instituto Vasselo Goldoni
REFRESH-INTERVAL;VALUE=DURATION:PT1H
X-Robots-Tag:noindex
X-PUBLISHED-TTL:PT1H
BEGIN:VTIMEZONE
TZID:America/Sao_Paulo
BEGIN:STANDARD
TZOFFSETFROM:-0300
TZOFFSETTO:-0300
TZNAME:-03
DTSTART:20210101T000000
END:STANDARD
END:VTIMEZONE
BEGIN:VEVENT
DTSTART;TZID=America/Sao_Paulo:20220825T190000
DTEND;TZID=America/Sao_Paulo:20220825T210000
DTSTAMP:20260422T083632
CREATED:20220830T144142Z
LAST-MODIFIED:20221223T211414Z
UID:5777-1661454000-1661461200@institutoivg.com.br
SUMMARY:NÓS POR ELAS - Sabotadores Mentais
DESCRIPTION:LIVE DE HOJE – Sabotadores Mentais💥\nOlá\, Mentores! 👨‍🏫👩‍🏫 \nVocês já devem ter ouvido falar sobre Sabotadores Mentais\, não é mesmo!🤔 🧠\nEntão! Eles existem\, mas na nossa LIVE de hoje\, nossas Mentoradas terão a oportunidade de aprender e entender melhor sobre “esses inimigos” internos que costumam nos impedir de atingir os nossos potenciais. \nE o mais incrível é que essa LIVE será conduzida pela maravilhosa Rosangela Pedrosa\, Coach\, Professora e Consultora em Desenvolvimento Humano. Além de contarmos\, também\, com a presença do querido Ricardo Gomes\, Diretor Executivo na C+ Neurocomunicação\, como nosso Anfitrião. 👩‍🏫🧑‍🏫 \nIsso será incrível\, né!? 🤩 \n🔔 Então\, se programe e prepare-se\, sua presença é muito importante para elas\, também! 💄💞👩
URL:https://institutoivg.com.br/event/nos-por-elas-sabotadores-mentais/
ATTACH;FMTTYPE=image/jpeg:https://institutoivg.com.br/wp-content/uploads/2022/08/npe-sabotadores-mentaisagosto.jpeg
END:VEVENT
END:VCALENDAR