
BEGIN:VCALENDAR
VERSION:2.0
PRODID:-//IVG - Instituto Vasselo Goldoni - ECPv6.15.20//NONSGML v1.0//EN
CALSCALE:GREGORIAN
METHOD:PUBLISH
X-ORIGINAL-URL:https://institutoivg.com.br
X-WR-CALDESC:Eventos para IVG - Instituto Vasselo Goldoni
REFRESH-INTERVAL;VALUE=DURATION:PT1H
X-Robots-Tag:noindex
X-PUBLISHED-TTL:PT1H
BEGIN:VTIMEZONE
TZID:America/Sao_Paulo
BEGIN:STANDARD
TZOFFSETFROM:-0300
TZOFFSETTO:-0300
TZNAME:-03
DTSTART:20210101T000000
END:STANDARD
END:VTIMEZONE
BEGIN:VEVENT
DTSTART;TZID=America/Sao_Paulo:20221108T190000
DTEND;TZID=America/Sao_Paulo:20221108T210000
DTSTAMP:20260422T020304
CREATED:20221109T131939Z
LAST-MODIFIED:20221223T205050Z
UID:5851-1667934000-1667941200@institutoivg.com.br
SUMMARY:NÓS POR ELAS - Liderança Feminina
DESCRIPTION:
URL:https://institutoivg.com.br/event/nos-por-elas-lideranca-feminina-3/
ATTACH;FMTTYPE=image/jpeg:https://institutoivg.com.br/wp-content/uploads/2022/11/npe-lideranca-feminina.jpeg
END:VEVENT
END:VCALENDAR