
BEGIN:VCALENDAR
VERSION:2.0
PRODID:-//IVG - Instituto Vasselo Goldoni - ECPv6.15.20//NONSGML v1.0//EN
CALSCALE:GREGORIAN
METHOD:PUBLISH
X-WR-CALNAME:IVG - Instituto Vasselo Goldoni
X-ORIGINAL-URL:https://institutoivg.com.br
X-WR-CALDESC:Eventos para IVG - Instituto Vasselo Goldoni
REFRESH-INTERVAL;VALUE=DURATION:PT1H
X-Robots-Tag:noindex
X-PUBLISHED-TTL:PT1H
BEGIN:VTIMEZONE
TZID:America/Sao_Paulo
BEGIN:STANDARD
TZOFFSETFROM:-0300
TZOFFSETTO:-0300
TZNAME:-03
DTSTART:20210101T000000
END:STANDARD
END:VTIMEZONE
BEGIN:VEVENT
DTSTART;TZID=America/Sao_Paulo:20221110T190000
DTEND;TZID=America/Sao_Paulo:20221110T210000
DTSTAMP:20260422T011047
CREATED:20221116T191157Z
LAST-MODIFIED:20221223T204945Z
UID:5894-1668106800-1668114000@institutoivg.com.br
SUMMARY:NÓS POR ELAS - Comunicar para Criar Conexões
DESCRIPTION:Olá\, bom dia! ☀️ \nIndependentemente do tipo de informalidade de uma organização\, a comunicação escrita é parte fundamental da empregabilidade. Assim\, escrever com objetividade promove a compreensão de uma ideia\, estreita relacionamentos e estabelece conexões confiáveis. E a melhor forma de atingir este objetivo é escolher o tipo de linguagem mais adequada para conversar com o seu interlocutor\, considerando o contexto que deseja e\, inclusive\, assumir o protagonismo com o que fala ou escreve. \nAchou complicado? Calma! A nossa palestrante de hoje\, Vivien Chivalski\, é uma comunicadora muito experiente\, além de promover uma aula capaz de esclarecer as dúvidas mais frequentes\, vai te ajudar a escolher os meios de comunicação para atingir os resultados que você busca nessa área.
URL:https://institutoivg.com.br/event/nos-por-elas-comunicar-para-criar-conexoes/
ATTACH;FMTTYPE=image/jpeg:https://institutoivg.com.br/wp-content/uploads/2022/11/npe-comunicar-criar-conexoes.jpeg
END:VEVENT
END:VCALENDAR