
BEGIN:VCALENDAR
VERSION:2.0
PRODID:-//IVG - Instituto Vasselo Goldoni - ECPv6.15.20//NONSGML v1.0//EN
CALSCALE:GREGORIAN
METHOD:PUBLISH
X-WR-CALNAME:IVG - Instituto Vasselo Goldoni
X-ORIGINAL-URL:https://institutoivg.com.br
X-WR-CALDESC:Eventos para IVG - Instituto Vasselo Goldoni
REFRESH-INTERVAL;VALUE=DURATION:PT1H
X-Robots-Tag:noindex
X-PUBLISHED-TTL:PT1H
BEGIN:VTIMEZONE
TZID:America/Sao_Paulo
BEGIN:STANDARD
TZOFFSETFROM:-0300
TZOFFSETTO:-0300
TZNAME:-03
DTSTART:20200101T000000
END:STANDARD
END:VTIMEZONE
BEGIN:VEVENT
DTSTART;TZID=America/Sao_Paulo:20211004T190000
DTEND;TZID=America/Sao_Paulo:20211004T223000
DTSTAMP:20260423T051429
CREATED:20211012T114411Z
LAST-MODIFIED:20211012T114411Z
UID:4027-1633374000-1633386600@institutoivg.com.br
SUMMARY:NÓS POR ELAS - Aula Live - Curriculum
DESCRIPTION:
URL:https://institutoivg.com.br/event/nos-por-elas-aula-live-curriculum-3/
ATTACH;FMTTYPE=:
END:VEVENT
BEGIN:VEVENT
DTSTART;TZID=America/Sao_Paulo:20211005T190000
DTEND;TZID=America/Sao_Paulo:20211005T223000
DTSTAMP:20260423T051429
CREATED:20211007T225953Z
LAST-MODIFIED:20211007T225953Z
UID:3952-1633460400-1633473000@institutoivg.com.br
SUMMARY:NÓS POR ELAS - Aula Live - Networking
DESCRIPTION:
URL:https://institutoivg.com.br/event/nos-por-elas-aula-live-networking-2/
ATTACH;FMTTYPE=:
END:VEVENT
BEGIN:VEVENT
DTSTART;TZID=America/Sao_Paulo:20211007T190000
DTEND;TZID=America/Sao_Paulo:20211007T223000
DTSTAMP:20260423T051429
CREATED:20211007T230216Z
LAST-MODIFIED:20211007T230216Z
UID:3955-1633633200-1633645800@institutoivg.com.br
SUMMARY:NÓS POR ELAS - Aula Live - Coragem e Vulnerabilidade
DESCRIPTION:
URL:https://institutoivg.com.br/event/nos-por-elas-aula-live-coragem-e-vulnerabilidade/
ATTACH;FMTTYPE=:
END:VEVENT
BEGIN:VEVENT
DTSTART;TZID=America/Sao_Paulo:20211011T190000
DTEND;TZID=America/Sao_Paulo:20211011T223000
DTSTAMP:20260423T051429
CREATED:20211014T130909Z
LAST-MODIFIED:20211014T130909Z
UID:4054-1633978800-1633991400@institutoivg.com.br
SUMMARY:NÓS POR ELAS - Aula Live - Linkedin
DESCRIPTION:
URL:https://institutoivg.com.br/event/nos-por-elas-aula-live-linkedin-2/
ATTACH;FMTTYPE=:
END:VEVENT
BEGIN:VEVENT
DTSTART;TZID=America/Sao_Paulo:20211012T190000
DTEND;TZID=America/Sao_Paulo:20211012T223000
DTSTAMP:20260423T051429
CREATED:20211014T130525Z
LAST-MODIFIED:20211014T130525Z
UID:4051-1634065200-1634077800@institutoivg.com.br
SUMMARY:NÓS POR ELAS - Aula Live - Empreendedorismo e Negociação
DESCRIPTION:
URL:https://institutoivg.com.br/event/nos-por-elas-aula-live-empreendedorismo-e-negociacao/
ATTACH;FMTTYPE=:
END:VEVENT
BEGIN:VEVENT
DTSTART;TZID=America/Sao_Paulo:20211014T190000
DTEND;TZID=America/Sao_Paulo:20211014T223000
DTSTAMP:20260423T051429
CREATED:20211021T130415Z
LAST-MODIFIED:20211021T130415Z
UID:4068-1634238000-1634250600@institutoivg.com.br
SUMMARY:NÓS POR ELAS - Aula Live - Profissões do Futuro
DESCRIPTION:
URL:https://institutoivg.com.br/event/nos-por-elas-aula-live-profissoes-do-futuro/
ATTACH;FMTTYPE=:
END:VEVENT
BEGIN:VEVENT
DTSTART;TZID=America/Sao_Paulo:20211018T190000
DTEND;TZID=America/Sao_Paulo:20211018T223000
DTSTAMP:20260423T051429
CREATED:20211021T125852Z
LAST-MODIFIED:20211021T125852Z
UID:4065-1634583600-1634596200@institutoivg.com.br
SUMMARY:NÓS POR ELAS - Aula Live - Diálogos da Transformação
DESCRIPTION:
URL:https://institutoivg.com.br/event/nos-por-elas-aula-live-dialogos-da-transformacao/
ATTACH;FMTTYPE=:
END:VEVENT
BEGIN:VEVENT
DTSTART;TZID=America/Sao_Paulo:20211019T190000
DTEND;TZID=America/Sao_Paulo:20211019T223000
DTSTAMP:20260423T051429
CREATED:20211021T130652Z
LAST-MODIFIED:20211021T130652Z
UID:4071-1634670000-1634682600@institutoivg.com.br
SUMMARY:NÓS POR ELAS - Aula Live - Encerramento 8ª Edição
DESCRIPTION:
URL:https://institutoivg.com.br/event/nos-por-elas-aula-live-encerramento-8a-edicao/
ATTACH;FMTTYPE=:
END:VEVENT
BEGIN:VEVENT
DTSTART;TZID=America/Sao_Paulo:20211021T190000
DTEND;TZID=America/Sao_Paulo:20211021T223000
DTSTAMP:20260423T051429
CREATED:20211025T142638Z
LAST-MODIFIED:20211025T142638Z
UID:4115-1634842800-1634855400@institutoivg.com.br
SUMMARY:NÓS POR ELAS - Aula Live - Transformatura 8ª Edição
DESCRIPTION:Tópico: TRANSFORMATURA – 8ª Edição\nData: 21 out. 2021 05:28 da tarde São Paulo \nGravação da reunião:\nhttps://us02web.zoom.us/rec/share/3hDmky9guwOIK8Gx92Pn6gPKRL2gvkfnE3GRZoSm8eFTieOQWMF7VobTnvlGRX4p.rf_ltNfgzSquzSoo
URL:https://institutoivg.com.br/event/nos-por-elas-aula-live-transformatura-8a-edicao/
ATTACH;FMTTYPE=:
END:VEVENT
BEGIN:VEVENT
DTSTART;TZID=America/Sao_Paulo:20211111T190000
DTEND;TZID=America/Sao_Paulo:20211111T220000
DTSTAMP:20260423T051429
CREATED:20211116T105656Z
LAST-MODIFIED:20211116T105656Z
UID:4323-1636657200-1636668000@institutoivg.com.br
SUMMARY:NÓS POR ELAS - Abertura 9ª Edição
DESCRIPTION:Olá Mentores\, hoje teremos LIVE de Abertura da 9ª edição! ✨ \nVamos juntos iniciar esta nova jornada e último ciclo de 2021.\n📆 11 de novembro\n⏰ às 19h via Zoom
URL:https://institutoivg.com.br/event/nos-por-elas-abertura-9a-edicao/
ATTACH;FMTTYPE=:
END:VEVENT
BEGIN:VEVENT
DTSTART;TZID=America/Sao_Paulo:20211115T180000
DTEND;TZID=America/Sao_Paulo:20211115T220000
DTSTAMP:20260423T051429
CREATED:20211116T105417Z
LAST-MODIFIED:20211116T105417Z
UID:4320-1636999200-1637013600@institutoivg.com.br
SUMMARY:NÓS POR ELAS - Aula Live - Live Explicativa
DESCRIPTION:LIVE EXPLICATIVA SOBRE O PROGRAMA PARA MENTORADAS\n(Mentores convidados)\nHora: 15 nov. 2021 06:00* da tarde São Paulo \n*alteração no horário\, devido ao feriado.
URL:https://institutoivg.com.br/event/nos-por-elas-aula-live-live-explicativa/
ATTACH;FMTTYPE=:
END:VEVENT
BEGIN:VEVENT
DTSTART;TZID=America/Sao_Paulo:20211116T190000
DTEND;TZID=America/Sao_Paulo:20211116T220000
DTSTAMP:20260423T051429
CREATED:20211122T114215Z
LAST-MODIFIED:20211122T114215Z
UID:4357-1637089200-1637100000@institutoivg.com.br
SUMMARY:NÓS POR ELAS - Aula Live - Protagonismo Feminino
DESCRIPTION:
URL:https://institutoivg.com.br/event/nos-por-elas-aula-live-protagonismo-feminino-2/
ATTACH;FMTTYPE=:
END:VEVENT
BEGIN:VEVENT
DTSTART;TZID=America/Sao_Paulo:20211118T190000
DTEND;TZID=America/Sao_Paulo:20211118T220000
DTSTAMP:20260423T051429
CREATED:20211122T114353Z
LAST-MODIFIED:20211122T114353Z
UID:4360-1637262000-1637272800@institutoivg.com.br
SUMMARY:NÓS POR ELAS - Masterlive - Diálogos da Transformação
DESCRIPTION:
URL:https://institutoivg.com.br/event/nos-por-elas-masterlive-dialogos-da-transformacao-2/
ATTACH;FMTTYPE=:
END:VEVENT
BEGIN:VEVENT
DTSTART;TZID=America/Sao_Paulo:20211122T190000
DTEND;TZID=America/Sao_Paulo:20211122T210000
DTSTAMP:20260423T051429
CREATED:20211126T105229Z
LAST-MODIFIED:20211126T105229Z
UID:4366-1637607600-1637614800@institutoivg.com.br
SUMMARY:NÓS POR ELAS – Aula Live – Síndrome da Impostora
DESCRIPTION:
URL:https://institutoivg.com.br/event/nos-por-elas-aula-live-sindrome-da-impostora/
ATTACH;FMTTYPE=:
END:VEVENT
BEGIN:VEVENT
DTSTART;TZID=America/Sao_Paulo:20211123T190000
DTEND;TZID=America/Sao_Paulo:20211123T210000
DTSTAMP:20260423T051429
CREATED:20211126T105659Z
LAST-MODIFIED:20211126T105659Z
UID:4371-1637694000-1637701200@institutoivg.com.br
SUMMARY:NÓS POR ELAS - Aula Live - Empreendedorismo de negócios
DESCRIPTION:
URL:https://institutoivg.com.br/event/nos-por-elas-aula-live-empreendedorismo-de-negocios/
ATTACH;FMTTYPE=:
END:VEVENT
BEGIN:VEVENT
DTSTART;TZID=America/Sao_Paulo:20211125T190000
DTEND;TZID=America/Sao_Paulo:20211125T210000
DTSTAMP:20260423T051429
CREATED:20211126T105952Z
LAST-MODIFIED:20211126T105952Z
UID:4373-1637866800-1637874000@institutoivg.com.br
SUMMARY:NÓS POR ELAS - Masterlive - Propósito
DESCRIPTION:
URL:https://institutoivg.com.br/event/nos-por-elas-masterlive-proposito-3/
ATTACH;FMTTYPE=:
END:VEVENT
BEGIN:VEVENT
DTSTART;TZID=America/Sao_Paulo:20211129T190000
DTEND;TZID=America/Sao_Paulo:20211129T210000
DTSTAMP:20260423T051429
CREATED:20211201T104721Z
LAST-MODIFIED:20211201T104721Z
UID:4378-1638212400-1638219600@institutoivg.com.br
SUMMARY:NÓS POR ELAS - Aula Live - Curriculum
DESCRIPTION:
URL:https://institutoivg.com.br/event/nos-por-elas-aula-live-curriculum-4/
ATTACH;FMTTYPE=:
END:VEVENT
BEGIN:VEVENT
DTSTART;TZID=America/Sao_Paulo:20211130T190000
DTEND;TZID=America/Sao_Paulo:20211130T210000
DTSTAMP:20260423T051429
CREATED:20211201T104907Z
LAST-MODIFIED:20211201T104907Z
UID:4381-1638298800-1638306000@institutoivg.com.br
SUMMARY:NÓS POR ELAS - Aula Live - Linkedin
DESCRIPTION:
URL:https://institutoivg.com.br/event/nos-por-elas-aula-live-linkedin-3/
ATTACH;FMTTYPE=:
END:VEVENT
BEGIN:VEVENT
DTSTART;TZID=America/Sao_Paulo:20211202T190000
DTEND;TZID=America/Sao_Paulo:20211202T210000
DTSTAMP:20260423T051429
CREATED:20211207T100715Z
LAST-MODIFIED:20211207T100715Z
UID:4388-1638471600-1638478800@institutoivg.com.br
SUMMARY:NÓS POR ELAS - Aula Live - Mulher que Inspira
DESCRIPTION:
URL:https://institutoivg.com.br/event/nos-por-elas-aula-live-mulher-que-inspira-2/
ATTACH;FMTTYPE=:
END:VEVENT
BEGIN:VEVENT
DTSTART;TZID=America/Sao_Paulo:20211206T190000
DTEND;TZID=America/Sao_Paulo:20211206T210000
DTSTAMP:20260423T051429
CREATED:20211207T100828Z
LAST-MODIFIED:20211207T100828Z
UID:4391-1638817200-1638824400@institutoivg.com.br
SUMMARY:NÓS POR ELAS - Aula Live - Networking
DESCRIPTION:
URL:https://institutoivg.com.br/event/nos-por-elas-aula-live-networking-3/
ATTACH;FMTTYPE=:
END:VEVENT
BEGIN:VEVENT
DTSTART;TZID=America/Sao_Paulo:20211207T190000
DTEND;TZID=America/Sao_Paulo:20211207T210000
DTSTAMP:20260423T051429
CREATED:20211210T112726Z
LAST-MODIFIED:20211210T112726Z
UID:4525-1638903600-1638910800@institutoivg.com.br
SUMMARY:NÓS POR ELAS - Encerramento
DESCRIPTION:
URL:https://institutoivg.com.br/event/nos-por-elas-encerramento/
ATTACH;FMTTYPE=:
END:VEVENT
BEGIN:VEVENT
DTSTART;TZID=America/Sao_Paulo:20211209T190000
DTEND;TZID=America/Sao_Paulo:20211209T210000
DTSTAMP:20260423T051429
CREATED:20211210T113318Z
LAST-MODIFIED:20211210T113318Z
UID:4528-1639076400-1639083600@institutoivg.com.br
SUMMARY:NÓS POR ELAS - Transformatura
DESCRIPTION: 
URL:https://institutoivg.com.br/event/nos-por-elas-transformatura/
ATTACH;FMTTYPE=:
END:VEVENT
BEGIN:VEVENT
DTSTART;TZID=America/Sao_Paulo:20220127T190000
DTEND;TZID=America/Sao_Paulo:20220127T210000
DTSTAMP:20260423T051429
CREATED:20220128T132859Z
LAST-MODIFIED:20220128T132859Z
UID:4629-1643310000-1643317200@institutoivg.com.br
SUMMARY:NÓS POR ELAS - Aula Live - Abertura da 10ª Edição
DESCRIPTION:
URL:https://institutoivg.com.br/event/nos-por-elas-aula-live-abertura-da-10a-edicao/
ATTACH;FMTTYPE=:
END:VEVENT
BEGIN:VEVENT
DTSTART;TZID=America/Sao_Paulo:20220131T190000
DTEND;TZID=America/Sao_Paulo:20220131T210000
DTSTAMP:20260423T051429
CREATED:20220203T141525Z
LAST-MODIFIED:20220203T141525Z
UID:4636-1643655600-1643662800@institutoivg.com.br
SUMMARY:NÓS POR ELAS - Aula Live - Seja Protagonista da sua História
DESCRIPTION:
URL:https://institutoivg.com.br/event/nos-por-elas-aula-live-seja-protagonista-da-sua-historia/
ATTACH;FMTTYPE=:
END:VEVENT
BEGIN:VEVENT
DTSTART;TZID=America/Sao_Paulo:20220201T190000
DTEND;TZID=America/Sao_Paulo:20220201T210000
DTSTAMP:20260423T051429
CREATED:20220203T140249Z
LAST-MODIFIED:20220203T140249Z
UID:4633-1643742000-1643749200@institutoivg.com.br
SUMMARY:NÓS POR ELAS - Aula Live - Linkedin
DESCRIPTION:
URL:https://institutoivg.com.br/event/nos-por-elas-aula-live-linkedin-4/
ATTACH;FMTTYPE=:
END:VEVENT
BEGIN:VEVENT
DTSTART;TZID=America/Sao_Paulo:20220203T190000
DTEND;TZID=America/Sao_Paulo:20220203T210000
DTSTAMP:20260423T051429
CREATED:20220307T232751Z
LAST-MODIFIED:20220307T232751Z
UID:4824-1643914800-1643922000@institutoivg.com.br
SUMMARY:NÓS POR ELAS - Aula Live - Fenômeno da Impostora
DESCRIPTION:
URL:https://institutoivg.com.br/event/nos-por-elas-aula-live-fenomeno-da-impostora/
ATTACH;FMTTYPE=:
END:VEVENT
BEGIN:VEVENT
DTSTART;TZID=America/Sao_Paulo:20220207T190000
DTEND;TZID=America/Sao_Paulo:20220207T210000
DTSTAMP:20260423T051429
CREATED:20220208T142728Z
LAST-MODIFIED:20220208T142728Z
UID:4670-1644260400-1644267600@institutoivg.com.br
SUMMARY:NÓS POR ELAS - Aula Live - Currículo
DESCRIPTION:
URL:https://institutoivg.com.br/event/nos-por-elas-aula-live-curriculo/
ATTACH;FMTTYPE=:
END:VEVENT
BEGIN:VEVENT
DTSTART;TZID=America/Sao_Paulo:20220208T190000
DTEND;TZID=America/Sao_Paulo:20220208T210000
DTSTAMP:20260423T051429
CREATED:20220211T124608Z
LAST-MODIFIED:20220211T124608Z
UID:4673-1644346800-1644354000@institutoivg.com.br
SUMMARY:NÓS POR ELAS - Masterlive - Marca Pessoal
DESCRIPTION:
URL:https://institutoivg.com.br/event/nos-por-elas-masterlive-marca-pessoal/
ATTACH;FMTTYPE=:
END:VEVENT
BEGIN:VEVENT
DTSTART;TZID=America/Sao_Paulo:20220210T190000
DTEND;TZID=America/Sao_Paulo:20220210T210000
DTSTAMP:20260423T051429
CREATED:20220211T124821Z
LAST-MODIFIED:20220211T124821Z
UID:4676-1644519600-1644526800@institutoivg.com.br
SUMMARY:NÓS POR ELAS - Aula Live - Propósito
DESCRIPTION:
URL:https://institutoivg.com.br/event/nos-por-elas-aula-live-proposito-3/
ATTACH;FMTTYPE=:
END:VEVENT
BEGIN:VEVENT
DTSTART;TZID=America/Sao_Paulo:20220214T190000
DTEND;TZID=America/Sao_Paulo:20220214T210000
DTSTAMP:20260423T051429
CREATED:20220215T150415Z
LAST-MODIFIED:20220215T150415Z
UID:4698-1644865200-1644872400@institutoivg.com.br
SUMMARY:NÓS POR ELAS - Aula Live - Inteligência Emocional
DESCRIPTION:
URL:https://institutoivg.com.br/event/nos-por-elas-aula-live-inteligencia-emocional/
ATTACH;FMTTYPE=:
END:VEVENT
END:VCALENDAR