
BEGIN:VCALENDAR
VERSION:2.0
PRODID:-//IVG - Instituto Vasselo Goldoni - ECPv6.15.20//NONSGML v1.0//EN
CALSCALE:GREGORIAN
METHOD:PUBLISH
X-ORIGINAL-URL:https://institutoivg.com.br
X-WR-CALDESC:Eventos para IVG - Instituto Vasselo Goldoni
REFRESH-INTERVAL;VALUE=DURATION:PT1H
X-Robots-Tag:noindex
X-PUBLISHED-TTL:PT1H
BEGIN:VTIMEZONE
TZID:America/Sao_Paulo
BEGIN:STANDARD
TZOFFSETFROM:-0300
TZOFFSETTO:-0300
TZNAME:-03
DTSTART:20210101T000000
END:STANDARD
END:VTIMEZONE
BEGIN:VEVENT
DTSTART;TZID=America/Sao_Paulo:20220418T190000
DTEND;TZID=America/Sao_Paulo:20220418T210000
DTSTAMP:20260422T190932
CREATED:20220428T142031Z
LAST-MODIFIED:20220428T142031Z
UID:4947-1650308400-1650315600@institutoivg.com.br
SUMMARY:NÓS POR ELAS - Marca Pessoal
DESCRIPTION:
URL:https://institutoivg.com.br/event/nos-por-elas-marca-pessoal/
ATTACH;FMTTYPE=:
END:VEVENT
BEGIN:VEVENT
DTSTART;TZID=America/Sao_Paulo:20220419T190000
DTEND;TZID=America/Sao_Paulo:20220419T210000
DTSTAMP:20260422T190932
CREATED:20220428T141856Z
LAST-MODIFIED:20220428T141856Z
UID:5765-1650394800-1650402000@institutoivg.com.br
SUMMARY:NÓS POR ELAS - Os Segredos da Adaptabilidade
DESCRIPTION:
URL:https://institutoivg.com.br/event/nos-por-elas-os-segredos-da-adaptabilidade/
ATTACH;FMTTYPE=image/png:https://institutoivg.com.br/wp-content/uploads/2022/08/icon-3.png
END:VEVENT
BEGIN:VEVENT
DTSTART;TZID=America/Sao_Paulo:20220421T190000
DTEND;TZID=America/Sao_Paulo:20220421T210000
DTSTAMP:20260422T190932
CREATED:20220428T141617Z
LAST-MODIFIED:20220428T141617Z
UID:4940-1650567600-1650574800@institutoivg.com.br
SUMMARY:NÓS POR ELAS - Planejamento Financeiro
DESCRIPTION:
URL:https://institutoivg.com.br/event/nos-por-elas-planejamento-financeiro/
ATTACH;FMTTYPE=image/png:https://institutoivg.com.br/wp-content/uploads/2022/08/video-icon.png
END:VEVENT
BEGIN:VEVENT
DTSTART;TZID=America/Sao_Paulo:20220425T190000
DTEND;TZID=America/Sao_Paulo:20220425T210000
DTSTAMP:20260422T190932
CREATED:20220428T141424Z
LAST-MODIFIED:20220428T141424Z
UID:4937-1650913200-1650920400@institutoivg.com.br
SUMMARY:NÓS POR ELAS - Encerramento 11ª Edição
DESCRIPTION:
URL:https://institutoivg.com.br/event/nos-por-elas-encerramento-11a-edicao/
ATTACH;FMTTYPE=:
END:VEVENT
BEGIN:VEVENT
DTSTART;TZID=America/Sao_Paulo:20220428T190000
DTEND;TZID=America/Sao_Paulo:20220428T210000
DTSTAMP:20260422T190932
CREATED:20220429T181229Z
LAST-MODIFIED:20220429T181229Z
UID:5766-1651172400-1651179600@institutoivg.com.br
SUMMARY:NÓS POR ELAS - Transformatura 11ª Edição
DESCRIPTION:
URL:https://institutoivg.com.br/event/nos-por-elas-transformatura-11a-edicao/
ATTACH;FMTTYPE=:
END:VEVENT
BEGIN:VEVENT
DTSTART;TZID=America/Sao_Paulo:20220502T190000
DTEND;TZID=America/Sao_Paulo:20220502T210000
DTSTAMP:20260422T190932
CREATED:20220519T131618Z
LAST-MODIFIED:20220519T131618Z
UID:5103-1651518000-1651525200@institutoivg.com.br
SUMMARY:MAETORIA - Abertura 3ª Edição
DESCRIPTION:
URL:https://institutoivg.com.br/event/maetoria-abertura-3a-edicao/
ATTACH;FMTTYPE=:
END:VEVENT
BEGIN:VEVENT
DTSTART;TZID=America/Sao_Paulo:20220503T190000
DTEND;TZID=America/Sao_Paulo:20220503T210000
DTSTAMP:20260422T190932
CREATED:20220519T132038Z
LAST-MODIFIED:20220519T132038Z
UID:5106-1651604400-1651611600@institutoivg.com.br
SUMMARY:MAETORIA - O que mudou da mulher para a mãe? Um resgate do meu lado mulher - 3ª Edição
DESCRIPTION:
URL:https://institutoivg.com.br/event/maetoria-o-que-mudou-da-mulher-para-a-mae-um-resgate-do-meu-lado-mulher-3a-edicao/
ATTACH;FMTTYPE=:
END:VEVENT
BEGIN:VEVENT
DTSTART;TZID=America/Sao_Paulo:20220510T190000
DTEND;TZID=America/Sao_Paulo:20220510T210000
DTSTAMP:20260422T190932
CREATED:20220519T132639Z
LAST-MODIFIED:20220519T132639Z
UID:5110-1652209200-1652216400@institutoivg.com.br
SUMMARY:MAETORIA - Qual mulher habita em você - 3ª Edição
DESCRIPTION:
URL:https://institutoivg.com.br/event/maetoria-qual-mulher-habita-em-voce-3a-edicao/
ATTACH;FMTTYPE=:
END:VEVENT
BEGIN:VEVENT
DTSTART;TZID=America/Sao_Paulo:20220517T190000
DTEND;TZID=America/Sao_Paulo:20220517T210000
DTSTAMP:20260422T190932
CREATED:20220519T133952Z
LAST-MODIFIED:20220519T133952Z
UID:5112-1652814000-1652821200@institutoivg.com.br
SUMMARY:MAETORIA - Quem é você na família nuclear expandida - 3ª Edição
DESCRIPTION:
URL:https://institutoivg.com.br/event/maetoria-quem-e-voce-na-familia-nuclear-expandida-3a-edicao/
ATTACH;FMTTYPE=:
END:VEVENT
BEGIN:VEVENT
DTSTART;TZID=America/Sao_Paulo:20220526T190000
DTEND;TZID=America/Sao_Paulo:20220526T210000
DTSTAMP:20260422T190932
CREATED:20220527T003916Z
LAST-MODIFIED:20220527T003916Z
UID:5120-1653591600-1653598800@institutoivg.com.br
SUMMARY:MAETORIA - O poder de saber o que você não sabe - 3ª Edição
DESCRIPTION:
URL:https://institutoivg.com.br/event/maetoria-o-poder-de-saber-o-que-voce-nao-sabe-3a-edicao/
ATTACH;FMTTYPE=:
END:VEVENT
BEGIN:VEVENT
DTSTART;TZID=America/Sao_Paulo:20220526T190000
DTEND;TZID=America/Sao_Paulo:20220526T210000
DTSTAMP:20260422T190932
CREATED:20220530T164349Z
LAST-MODIFIED:20220530T164349Z
UID:5123-1653591600-1653598800@institutoivg.com.br
SUMMARY:Abertura para Mentores da 12ª Edição do Programa Nós por Elas
DESCRIPTION:Olá\, Mentores! \nChegou o dia da nossa LIVE de abertura EXCLUSIVA para Mentores da 12ª Edição do Programa de #MentoriaParaMulheres – “Nós por Elas” com nossa querida Rosa Alba Bernhoeft. 🤩 \nVamos falar sobre a mentoria\, sobre as mentoradas\, comprometimento\, motivação e queremos você conosco para realizar este plano de ação. \n🕘 Hoje\, quinta-feira (26/05)\, a partir das 19h no Zoom. \n⬇️ Acesse o link abaixo:\nhttps://us02web.zoom.us/j/82626899692?pwd=kWPqkkIzWS6yjTcJYmkKQROB7R3sU8.1 \n➡️ ID da reunião: 826 2689 9692\n➡️ Senha de acesso: 748728 \nEntão não esqueça\, estamos te esperando! 💕
URL:https://institutoivg.com.br/event/abertura-para-mentores-da-12a-edicao-do-programa-nos-por-elas/
ATTACH;FMTTYPE=:
END:VEVENT
BEGIN:VEVENT
DTSTART;TZID=America/Sao_Paulo:20220530T190000
DTEND;TZID=America/Sao_Paulo:20220530T210000
DTSTAMP:20260422T190932
CREATED:20220531T174518Z
LAST-MODIFIED:20220531T174518Z
UID:5126-1653937200-1653944400@institutoivg.com.br
SUMMARY:Abertura para Mentoradas da 12ª Edição do Programa Nós por Elas
DESCRIPTION:
URL:https://institutoivg.com.br/event/abertura-para-mentoradas-da-12a-edicao-do-programa-nos-por-elas/
ATTACH;FMTTYPE=:
END:VEVENT
BEGIN:VEVENT
DTSTART;TZID=America/Sao_Paulo:20220531T190000
DTEND;TZID=America/Sao_Paulo:20220531T210000
DTSTAMP:20260422T190932
CREATED:20220601T144631Z
LAST-MODIFIED:20220601T144631Z
UID:5130-1654023600-1654030800@institutoivg.com.br
SUMMARY:NÓS POR ELAS - Seja você a protagonista da sua história
DESCRIPTION:
URL:https://institutoivg.com.br/event/nos-por-elas-seja-voce-a-protagonista-da-sua-historia/
ATTACH;FMTTYPE=:
END:VEVENT
BEGIN:VEVENT
DTSTART;TZID=America/Sao_Paulo:20220602T190000
DTEND;TZID=America/Sao_Paulo:20220602T210000
DTSTAMP:20260422T190932
CREATED:20220606T182744Z
LAST-MODIFIED:20220606T182744Z
UID:5192-1654196400-1654203600@institutoivg.com.br
SUMMARY:NÓS POR ELAS - Potencializando seu Curriculum
DESCRIPTION:
URL:https://institutoivg.com.br/event/nos-por-elas-potencializando-seu-curriculum/
ATTACH;FMTTYPE=:
END:VEVENT
BEGIN:VEVENT
DTSTART;TZID=America/Sao_Paulo:20220607T190000
DTEND;TZID=America/Sao_Paulo:20220607T210000
DTSTAMP:20260422T190932
CREATED:20220613T113527Z
LAST-MODIFIED:20220613T113527Z
UID:5225-1654628400-1654635600@institutoivg.com.br
SUMMARY:NÓS POR ELAS - Masterlive - Linkedin
DESCRIPTION:
URL:https://institutoivg.com.br/event/nos-por-elas-masterlive-linkedin/
ATTACH;FMTTYPE=:
END:VEVENT
BEGIN:VEVENT
DTSTART;TZID=America/Sao_Paulo:20220609T190000
DTEND;TZID=America/Sao_Paulo:20220609T210000
DTSTAMP:20260422T190932
CREATED:20220613T113431Z
LAST-MODIFIED:20220613T113431Z
UID:5221-1654801200-1654808400@institutoivg.com.br
SUMMARY:NÓS POR ELAS - Pequenas Palavras\, Grandes Transformações
DESCRIPTION:
URL:https://institutoivg.com.br/event/nos-por-elas-pequenas-palavras-grandes-transformacoes/
ATTACH;FMTTYPE=image/png:https://institutoivg.com.br/wp-content/uploads/2022/08/bg-abstract21.png
END:VEVENT
BEGIN:VEVENT
DTSTART;TZID=America/Sao_Paulo:20220613T190000
DTEND;TZID=America/Sao_Paulo:20220613T210000
DTSTAMP:20260422T190932
CREATED:20220614T195304Z
LAST-MODIFIED:20220614T195304Z
UID:5767-1655146800-1655154000@institutoivg.com.br
SUMMARY:NÓS POR ELAS - Propósito
DESCRIPTION:
URL:https://institutoivg.com.br/event/nos-por-elas-proposito-2/
ATTACH;FMTTYPE=:
END:VEVENT
BEGIN:VEVENT
DTSTART;TZID=America/Sao_Paulo:20220614T190000
DTEND;TZID=America/Sao_Paulo:20220614T210000
DTSTAMP:20260422T190932
CREATED:20220615T234454Z
LAST-MODIFIED:20220615T234454Z
UID:5768-1655233200-1655240400@institutoivg.com.br
SUMMARY:NÓS POR ELAS - Master Live - Liderança Feminina
DESCRIPTION:
URL:https://institutoivg.com.br/event/nos-por-elas-master-live-lideranca-feminina/
ATTACH;FMTTYPE=:
END:VEVENT
BEGIN:VEVENT
DTSTART;TZID=America/Sao_Paulo:20220616T190000
DTEND;TZID=America/Sao_Paulo:20220616T210000
DTSTAMP:20260422T190932
CREATED:20220620T122214Z
LAST-MODIFIED:20220620T122214Z
UID:5769-1655406000-1655413200@institutoivg.com.br
SUMMARY:NÓS POR ELAS - Empreendedorismo de Impacto
DESCRIPTION:
URL:https://institutoivg.com.br/event/nos-por-elas-empreendedorismo-de-impacto/
ATTACH;FMTTYPE=:
END:VEVENT
BEGIN:VEVENT
DTSTART;TZID=America/Sao_Paulo:20220620T190000
DTEND;TZID=America/Sao_Paulo:20220620T210000
DTSTAMP:20260422T190932
CREATED:20220623T184258Z
LAST-MODIFIED:20220623T184258Z
UID:5247-1655751600-1655758800@institutoivg.com.br
SUMMARY:NÓS POR ELAS - Felicidade e Bem Estar
DESCRIPTION:
URL:https://institutoivg.com.br/event/nos-por-elas-felicidade-e-bem-estar/
ATTACH;FMTTYPE=:
END:VEVENT
BEGIN:VEVENT
DTSTART;TZID=America/Sao_Paulo:20220621T190000
DTEND;TZID=America/Sao_Paulo:20220621T210000
DTSTAMP:20260422T190932
CREATED:20220623T184408Z
LAST-MODIFIED:20220623T184408Z
UID:5770-1655838000-1655845200@institutoivg.com.br
SUMMARY:NÓS POR ELAS - No exercício da liderança espiritualizada
DESCRIPTION:
URL:https://institutoivg.com.br/event/no-exercicio-da-lideranca-espiritualizada/
ATTACH;FMTTYPE=:
END:VEVENT
BEGIN:VEVENT
DTSTART;TZID=America/Sao_Paulo:20220623T190000
DTEND;TZID=America/Sao_Paulo:20220623T210000
DTSTAMP:20260422T190932
CREATED:20220626T180317Z
LAST-MODIFIED:20220626T180317Z
UID:5771-1656010800-1656018000@institutoivg.com.br
SUMMARY:NÓS POR ELAS - Empatia e Sororidade
DESCRIPTION:
URL:https://institutoivg.com.br/event/nos-por-elas-empatia-e-sororidade/
ATTACH;FMTTYPE=:
END:VEVENT
BEGIN:VEVENT
DTSTART;TZID=America/Sao_Paulo:20220627T190000
DTEND;TZID=America/Sao_Paulo:20220627T210000
DTSTAMP:20260422T190932
CREATED:20220628T181529Z
LAST-MODIFIED:20220628T181529Z
UID:5258-1656356400-1656363600@institutoivg.com.br
SUMMARY:NÓS POR ELAS - Encerramento 12º Edição
DESCRIPTION:
URL:https://institutoivg.com.br/event/nos-por-elas-encerramento-12o-edicao/
ATTACH;FMTTYPE=:
END:VEVENT
BEGIN:VEVENT
DTSTART;TZID=America/Sao_Paulo:20220628T190000
DTEND;TZID=America/Sao_Paulo:20220628T210000
DTSTAMP:20260422T190932
CREATED:20220630T111730Z
LAST-MODIFIED:20220630T111730Z
UID:5261-1656442800-1656450000@institutoivg.com.br
SUMMARY:NÓS POR ELAS - Bem Estar e Mindfulness
DESCRIPTION:
URL:https://institutoivg.com.br/event/nos-por-elas-bem-estar-e-mindfulness/
ATTACH;FMTTYPE=:
END:VEVENT
BEGIN:VEVENT
DTSTART;TZID=America/Sao_Paulo:20220630T190000
DTEND;TZID=America/Sao_Paulo:20220630T210000
DTSTAMP:20260422T190932
CREATED:20220706T222132Z
LAST-MODIFIED:20220706T222132Z
UID:5277-1656615600-1656622800@institutoivg.com.br
SUMMARY:NÓS POR ELAS - Transformatura 12ª Edição
DESCRIPTION:
URL:https://institutoivg.com.br/event/nos-por-elas-transformatura-13a-edicao/
ATTACH;FMTTYPE=:
END:VEVENT
BEGIN:VEVENT
DTSTART;TZID=America/Sao_Paulo:20220725T190000
DTEND;TZID=America/Sao_Paulo:20220725T210000
DTSTAMP:20260422T190932
CREATED:20220727T173905Z
LAST-MODIFIED:20220727T173905Z
UID:5322-1658775600-1658782800@institutoivg.com.br
SUMMARY:NÓS POR ELAS - Boas Vindas Mentores 13ª Edição
DESCRIPTION:
URL:https://institutoivg.com.br/event/nos-por-elas-boas-vindas-mentores-13a-edicao/
ATTACH;FMTTYPE=:
END:VEVENT
BEGIN:VEVENT
DTSTART;TZID=America/Sao_Paulo:20220726T190000
DTEND;TZID=America/Sao_Paulo:20220726T210000
DTSTAMP:20260422T190932
CREATED:20220727T174102Z
LAST-MODIFIED:20220727T174102Z
UID:5325-1658862000-1658869200@institutoivg.com.br
SUMMARY:NÓS POR ELAS - Boas Vindas Mentoradas 13ª Edição
DESCRIPTION:
URL:https://institutoivg.com.br/event/nos-por-elas-boas-vindas-mentoradas-13a-edicao/
ATTACH;FMTTYPE=image/png:https://institutoivg.com.br/wp-content/uploads/2022/08/IVG_logo_full.png
END:VEVENT
BEGIN:VEVENT
DTSTART;TZID=America/Sao_Paulo:20220728T190000
DTEND;TZID=America/Sao_Paulo:20220728T210000
DTSTAMP:20260422T190932
CREATED:20220730T133407Z
LAST-MODIFIED:20220730T133407Z
UID:5772-1659034800-1659042000@institutoivg.com.br
SUMMARY:NÓS POR ELAS - Seja Protagonista da sua História 13ª Edição
DESCRIPTION:
URL:https://institutoivg.com.br/event/nos-por-elas-seja-protagonista-da-sua-historia-13a-edicao/
ATTACH;FMTTYPE=:
END:VEVENT
BEGIN:VEVENT
DTSTART;TZID=America/Sao_Paulo:20220802T190000
DTEND;TZID=America/Sao_Paulo:20220802T210000
DTSTAMP:20260422T190932
CREATED:20220803T213253Z
LAST-MODIFIED:20220803T213253Z
UID:5366-1659466800-1659474000@institutoivg.com.br
SUMMARY:NÓS POR ELAS - Potencializando seu Curriculum
DESCRIPTION:✨LIVE DE HOJE – Potencializando Seu Curriculum.📝 \nOlá Mentores! 👩‍🏫👨‍🏫\nTraçar novos caminhos profissionais e ou dar um próximo passo em sua carreira\, precisa ser muito bem “apresentado”. ✨ \nCom isso\, hoje as Nossas Mentoradas\, irão juntas\, com as nossas queridas palestrantes\, Denise Paludetto e Salete Deon\, nessa jornada de transformação\, poder aprender como potencializar seus Currículos e mostrar para o mercado os seus momentos\, e principalmente o que estão buscando. 🤗 \n🔔 Então! Se prepare e venha com a gente\, pois sua presença\, também\, é muito importante.   \n📆 Hoje\, 02 de Agosto (terça-feira)\n⏰ Às 19h (horário de Brasília)\n📍 Via Zoom\, no link abaixo 👇 \nhttps://us02web.zoom.us/j/85761139534?pwd=cUpwMEp4Z1VnVU1Wcno2cHp4OXU3dz09 \n➡️ ID da reunião: 857 6113 9534\n➡️ Senha de acesso: 123456 \nTe esperamos lá! 👋
URL:https://institutoivg.com.br/event/nos-por-elas-potencializando-seu-curriculum-2/
ATTACH;FMTTYPE=:
END:VEVENT
BEGIN:VEVENT
DTSTART;TZID=America/Sao_Paulo:20220804T190000
DTEND;TZID=America/Sao_Paulo:20220804T210000
DTSTAMP:20260422T190932
CREATED:20220808T124424Z
LAST-MODIFIED:20220808T124424Z
UID:5370-1659639600-1659646800@institutoivg.com.br
SUMMARY:NÓS POR ELAS - LinkedIn
DESCRIPTION:Olá Mentores! 👩‍🏫👨‍🏫 \nHoje\, na LIVE sobre LinkedIN\, as Nossas Mentoradas terão a honra de poderem aprender com a Especialista em Linkedin\, Carol Dostal e a Líder de RH – Divisão de Operações do Linkedin Brasil\, Vânia Cagnassi\, como usar essa ferramenta da melhor forma.\nE\, teremos a presença\, também\, da querida Salete Deon – Sócia e Especialista em Gestão de Carreira e Desenvolvimento de Lideranças na Unblur Consultoria\, como nossa Anfitriã. \nVocês\, Mentores\, querem saber\, também\, como usar o Linkedin de forma estratégica e eficaz? 🤩 \nEntão\, bora com a gente e se programe! A sua presença é muito importante\, também! 🤗
URL:https://institutoivg.com.br/event/nos-por-elas-linkedin-2/
ATTACH;FMTTYPE=:
END:VEVENT
END:VCALENDAR