
BEGIN:VCALENDAR
VERSION:2.0
PRODID:-//IVG - Instituto Vasselo Goldoni - ECPv6.15.20//NONSGML v1.0//EN
CALSCALE:GREGORIAN
METHOD:PUBLISH
X-WR-CALNAME:IVG - Instituto Vasselo Goldoni
X-ORIGINAL-URL:https://institutoivg.com.br
X-WR-CALDESC:Eventos para IVG - Instituto Vasselo Goldoni
REFRESH-INTERVAL;VALUE=DURATION:PT1H
X-Robots-Tag:noindex
X-PUBLISHED-TTL:PT1H
BEGIN:VTIMEZONE
TZID:America/Sao_Paulo
BEGIN:STANDARD
TZOFFSETFROM:-0300
TZOFFSETTO:-0300
TZNAME:-03
DTSTART:20200101T000000
END:STANDARD
END:VTIMEZONE
BEGIN:VEVENT
DTSTART;TZID=America/Sao_Paulo:20210211T190000
DTEND;TZID=America/Sao_Paulo:20210211T210000
DTSTAMP:20260423T133840
CREATED:20210303T122928Z
LAST-MODIFIED:20210303T122928Z
UID:2571-1613070000-1613077200@institutoivg.com.br
SUMMARY:Aula Live Inaugural
DESCRIPTION:
URL:https://institutoivg.com.br/event/aula-live-inaugural/
ATTACH;FMTTYPE=:
END:VEVENT
BEGIN:VEVENT
DTSTART;TZID=America/Sao_Paulo:20210218T190000
DTEND;TZID=America/Sao_Paulo:20210218T210000
DTSTAMP:20260423T133840
CREATED:20210303T123229Z
LAST-MODIFIED:20210303T123229Z
UID:2574-1613674800-1613682000@institutoivg.com.br
SUMMARY:Masterlive - Inspiração e Superação
DESCRIPTION:
URL:https://institutoivg.com.br/event/masterlive-inspiracao-e-superacao/
ATTACH;FMTTYPE=:
END:VEVENT
BEGIN:VEVENT
DTSTART;TZID=America/Sao_Paulo:20210222T190000
DTEND;TZID=America/Sao_Paulo:20210222T210000
DTSTAMP:20260423T133840
CREATED:20210303T120808Z
LAST-MODIFIED:20210303T120808Z
UID:2562-1614020400-1614027600@institutoivg.com.br
SUMMARY:Aula Live - Autogerenciamento e Mindset de Crescimento
DESCRIPTION:
URL:https://institutoivg.com.br/event/aula-live-autogerenciamento-e-mindset-de-crescimento/
ATTACH;FMTTYPE=:
END:VEVENT
BEGIN:VEVENT
DTSTART;TZID=America/Sao_Paulo:20210223T190000
DTEND;TZID=America/Sao_Paulo:20210223T220000
DTSTAMP:20260423T133840
CREATED:20210303T122406Z
LAST-MODIFIED:20210303T122406Z
UID:2568-1614106800-1614117600@institutoivg.com.br
SUMMARY:Aula Live - Linkedin
DESCRIPTION:
URL:https://institutoivg.com.br/event/aula-live-linkedin/
ATTACH;FMTTYPE=:
END:VEVENT
BEGIN:VEVENT
DTSTART;TZID=America/Sao_Paulo:20210225T190000
DTEND;TZID=America/Sao_Paulo:20210225T223000
DTSTAMP:20260423T133840
CREATED:20210303T124535Z
LAST-MODIFIED:20210303T124535Z
UID:2584-1614279600-1614292200@institutoivg.com.br
SUMMARY:Masterlive - Os Talentos que o RH Buscam
DESCRIPTION:
URL:https://institutoivg.com.br/event/masterlive-os-talentos-que-o-rh-buscam/
ATTACH;FMTTYPE=:
END:VEVENT
END:VCALENDAR