
BEGIN:VCALENDAR
VERSION:2.0
PRODID:-//IVG - Instituto Vasselo Goldoni - ECPv6.15.20//NONSGML v1.0//EN
CALSCALE:GREGORIAN
METHOD:PUBLISH
X-WR-CALNAME:IVG - Instituto Vasselo Goldoni
X-ORIGINAL-URL:https://institutoivg.com.br
X-WR-CALDESC:Eventos para IVG - Instituto Vasselo Goldoni
REFRESH-INTERVAL;VALUE=DURATION:PT1H
X-Robots-Tag:noindex
X-PUBLISHED-TTL:PT1H
BEGIN:VTIMEZONE
TZID:America/Sao_Paulo
BEGIN:STANDARD
TZOFFSETFROM:-0300
TZOFFSETTO:-0300
TZNAME:-03
DTSTART:20200101T000000
END:STANDARD
END:VTIMEZONE
BEGIN:VEVENT
DTSTART;TZID=America/Sao_Paulo:20211111T190000
DTEND;TZID=America/Sao_Paulo:20211111T220000
DTSTAMP:20260422T222309
CREATED:20211116T105656Z
LAST-MODIFIED:20211116T105656Z
UID:4323-1636657200-1636668000@institutoivg.com.br
SUMMARY:NÓS POR ELAS - Abertura 9ª Edição
DESCRIPTION:Olá Mentores\, hoje teremos LIVE de Abertura da 9ª edição! ✨ \nVamos juntos iniciar esta nova jornada e último ciclo de 2021.\n📆 11 de novembro\n⏰ às 19h via Zoom
URL:https://institutoivg.com.br/event/nos-por-elas-abertura-9a-edicao/
ATTACH;FMTTYPE=:
END:VEVENT
BEGIN:VEVENT
DTSTART;TZID=America/Sao_Paulo:20211115T180000
DTEND;TZID=America/Sao_Paulo:20211115T220000
DTSTAMP:20260422T222309
CREATED:20211116T105417Z
LAST-MODIFIED:20211116T105417Z
UID:4320-1636999200-1637013600@institutoivg.com.br
SUMMARY:NÓS POR ELAS - Aula Live - Live Explicativa
DESCRIPTION:LIVE EXPLICATIVA SOBRE O PROGRAMA PARA MENTORADAS\n(Mentores convidados)\nHora: 15 nov. 2021 06:00* da tarde São Paulo \n*alteração no horário\, devido ao feriado.
URL:https://institutoivg.com.br/event/nos-por-elas-aula-live-live-explicativa/
ATTACH;FMTTYPE=:
END:VEVENT
BEGIN:VEVENT
DTSTART;TZID=America/Sao_Paulo:20211116T190000
DTEND;TZID=America/Sao_Paulo:20211116T220000
DTSTAMP:20260422T222309
CREATED:20211122T114215Z
LAST-MODIFIED:20211122T114215Z
UID:4357-1637089200-1637100000@institutoivg.com.br
SUMMARY:NÓS POR ELAS - Aula Live - Protagonismo Feminino
DESCRIPTION:
URL:https://institutoivg.com.br/event/nos-por-elas-aula-live-protagonismo-feminino-2/
ATTACH;FMTTYPE=:
END:VEVENT
BEGIN:VEVENT
DTSTART;TZID=America/Sao_Paulo:20211118T190000
DTEND;TZID=America/Sao_Paulo:20211118T220000
DTSTAMP:20260422T222309
CREATED:20211122T114353Z
LAST-MODIFIED:20211122T114353Z
UID:4360-1637262000-1637272800@institutoivg.com.br
SUMMARY:NÓS POR ELAS - Masterlive - Diálogos da Transformação
DESCRIPTION:
URL:https://institutoivg.com.br/event/nos-por-elas-masterlive-dialogos-da-transformacao-2/
ATTACH;FMTTYPE=:
END:VEVENT
BEGIN:VEVENT
DTSTART;TZID=America/Sao_Paulo:20211122T190000
DTEND;TZID=America/Sao_Paulo:20211122T210000
DTSTAMP:20260422T222309
CREATED:20211126T105229Z
LAST-MODIFIED:20211126T105229Z
UID:4366-1637607600-1637614800@institutoivg.com.br
SUMMARY:NÓS POR ELAS – Aula Live – Síndrome da Impostora
DESCRIPTION:
URL:https://institutoivg.com.br/event/nos-por-elas-aula-live-sindrome-da-impostora/
ATTACH;FMTTYPE=:
END:VEVENT
BEGIN:VEVENT
DTSTART;TZID=America/Sao_Paulo:20211123T190000
DTEND;TZID=America/Sao_Paulo:20211123T210000
DTSTAMP:20260422T222309
CREATED:20211126T105659Z
LAST-MODIFIED:20211126T105659Z
UID:4371-1637694000-1637701200@institutoivg.com.br
SUMMARY:NÓS POR ELAS - Aula Live - Empreendedorismo de negócios
DESCRIPTION:
URL:https://institutoivg.com.br/event/nos-por-elas-aula-live-empreendedorismo-de-negocios/
ATTACH;FMTTYPE=:
END:VEVENT
BEGIN:VEVENT
DTSTART;TZID=America/Sao_Paulo:20211125T190000
DTEND;TZID=America/Sao_Paulo:20211125T210000
DTSTAMP:20260422T222309
CREATED:20211126T105952Z
LAST-MODIFIED:20211126T105952Z
UID:4373-1637866800-1637874000@institutoivg.com.br
SUMMARY:NÓS POR ELAS - Masterlive - Propósito
DESCRIPTION:
URL:https://institutoivg.com.br/event/nos-por-elas-masterlive-proposito-3/
ATTACH;FMTTYPE=:
END:VEVENT
BEGIN:VEVENT
DTSTART;TZID=America/Sao_Paulo:20211129T190000
DTEND;TZID=America/Sao_Paulo:20211129T210000
DTSTAMP:20260422T222309
CREATED:20211201T104721Z
LAST-MODIFIED:20211201T104721Z
UID:4378-1638212400-1638219600@institutoivg.com.br
SUMMARY:NÓS POR ELAS - Aula Live - Curriculum
DESCRIPTION:
URL:https://institutoivg.com.br/event/nos-por-elas-aula-live-curriculum-4/
ATTACH;FMTTYPE=:
END:VEVENT
BEGIN:VEVENT
DTSTART;TZID=America/Sao_Paulo:20211130T190000
DTEND;TZID=America/Sao_Paulo:20211130T210000
DTSTAMP:20260422T222309
CREATED:20211201T104907Z
LAST-MODIFIED:20211201T104907Z
UID:4381-1638298800-1638306000@institutoivg.com.br
SUMMARY:NÓS POR ELAS - Aula Live - Linkedin
DESCRIPTION:
URL:https://institutoivg.com.br/event/nos-por-elas-aula-live-linkedin-3/
ATTACH;FMTTYPE=:
END:VEVENT
END:VCALENDAR