
BEGIN:VCALENDAR
VERSION:2.0
PRODID:-//IVG - Instituto Vasselo Goldoni - ECPv6.15.20//NONSGML v1.0//EN
CALSCALE:GREGORIAN
METHOD:PUBLISH
X-ORIGINAL-URL:https://institutoivg.com.br
X-WR-CALDESC:Eventos para IVG - Instituto Vasselo Goldoni
REFRESH-INTERVAL;VALUE=DURATION:PT1H
X-Robots-Tag:noindex
X-PUBLISHED-TTL:PT1H
BEGIN:VTIMEZONE
TZID:America/Sao_Paulo
BEGIN:STANDARD
TZOFFSETFROM:-0300
TZOFFSETTO:-0300
TZNAME:-03
DTSTART:20210101T000000
END:STANDARD
END:VTIMEZONE
BEGIN:VEVENT
DTSTART;TZID=America/Sao_Paulo:20220725T190000
DTEND;TZID=America/Sao_Paulo:20220725T210000
DTSTAMP:20260422T083504
CREATED:20220727T173905Z
LAST-MODIFIED:20220727T173905Z
UID:5322-1658775600-1658782800@institutoivg.com.br
SUMMARY:NÓS POR ELAS - Boas Vindas Mentores 13ª Edição
DESCRIPTION:
URL:https://institutoivg.com.br/event/nos-por-elas-boas-vindas-mentores-13a-edicao/
ATTACH;FMTTYPE=:
END:VEVENT
BEGIN:VEVENT
DTSTART;TZID=America/Sao_Paulo:20220726T190000
DTEND;TZID=America/Sao_Paulo:20220726T210000
DTSTAMP:20260422T083504
CREATED:20220727T174102Z
LAST-MODIFIED:20220727T174102Z
UID:5325-1658862000-1658869200@institutoivg.com.br
SUMMARY:NÓS POR ELAS - Boas Vindas Mentoradas 13ª Edição
DESCRIPTION:
URL:https://institutoivg.com.br/event/nos-por-elas-boas-vindas-mentoradas-13a-edicao/
ATTACH;FMTTYPE=image/png:https://institutoivg.com.br/wp-content/uploads/2022/08/IVG_logo_full.png
END:VEVENT
BEGIN:VEVENT
DTSTART;TZID=America/Sao_Paulo:20220728T190000
DTEND;TZID=America/Sao_Paulo:20220728T210000
DTSTAMP:20260422T083504
CREATED:20220730T133407Z
LAST-MODIFIED:20220730T133407Z
UID:5772-1659034800-1659042000@institutoivg.com.br
SUMMARY:NÓS POR ELAS - Seja Protagonista da sua História 13ª Edição
DESCRIPTION:
URL:https://institutoivg.com.br/event/nos-por-elas-seja-protagonista-da-sua-historia-13a-edicao/
ATTACH;FMTTYPE=:
END:VEVENT
END:VCALENDAR