
BEGIN:VCALENDAR
VERSION:2.0
PRODID:-//IVG - Instituto Vasselo Goldoni - ECPv6.15.20//NONSGML v1.0//EN
CALSCALE:GREGORIAN
METHOD:PUBLISH
X-WR-CALNAME:IVG - Instituto Vasselo Goldoni
X-ORIGINAL-URL:https://institutoivg.com.br
X-WR-CALDESC:Eventos para IVG - Instituto Vasselo Goldoni
REFRESH-INTERVAL;VALUE=DURATION:PT1H
X-Robots-Tag:noindex
X-PUBLISHED-TTL:PT1H
BEGIN:VTIMEZONE
TZID:America/Sao_Paulo
BEGIN:STANDARD
TZOFFSETFROM:-0300
TZOFFSETTO:-0300
TZNAME:-03
DTSTART:20210101T000000
END:STANDARD
END:VTIMEZONE
BEGIN:VEVENT
DTSTART;TZID=America/Sao_Paulo:20221020T190000
DTEND;TZID=America/Sao_Paulo:20221020T210000
DTSTAMP:20260422T012823
CREATED:20221024T142719Z
LAST-MODIFIED:20221223T210807Z
UID:5778-1666292400-1666299600@institutoivg.com.br
SUMMARY:NÓS POR ELAS - Sejam bem-vindos Mentores!
DESCRIPTION:
URL:https://institutoivg.com.br/event/nos-por-elas-sejam-bem-vindos-mentores/
ATTACH;FMTTYPE=image/jpeg:https://institutoivg.com.br/wp-content/uploads/2022/10/npe-sejam-bem-vindos-mentores.jpeg
END:VEVENT
BEGIN:VEVENT
DTSTART;TZID=America/Sao_Paulo:20221025T190000
DTEND;TZID=America/Sao_Paulo:20221025T210000
DTSTAMP:20260422T012823
CREATED:20221027T115555Z
LAST-MODIFIED:20221223T205816Z
UID:5779-1666724400-1666731600@institutoivg.com.br
SUMMARY:NÓS POR ELAS - Sejam bem-vindos Mentoradas!
DESCRIPTION:
URL:https://institutoivg.com.br/event/nos-por-elas-sejam-bem-vindos-mentoradas/
ATTACH;FMTTYPE=image/jpeg:https://institutoivg.com.br/wp-content/uploads/2022/11/npe-sejam-bem-vindos-mentoradas.jpeg
END:VEVENT
BEGIN:VEVENT
DTSTART;TZID=America/Sao_Paulo:20221026T190000
DTEND;TZID=America/Sao_Paulo:20221026T210000
DTSTAMP:20260422T012823
CREATED:20221027T115711Z
LAST-MODIFIED:20221223T205448Z
UID:5780-1666810800-1666818000@institutoivg.com.br
SUMMARY:NÓS POR ELAS - Seja você a Protagonista da sua História
DESCRIPTION:
URL:https://institutoivg.com.br/event/nos-por-elas-seja-voce-a-protagonista-da-sua-historia-2/
ATTACH;FMTTYPE=image/jpeg:https://institutoivg.com.br/wp-content/uploads/2022/11/npe-protagonista-da-sua-historia.jpeg
END:VEVENT
BEGIN:VEVENT
DTSTART;TZID=America/Sao_Paulo:20221027T190000
DTEND;TZID=America/Sao_Paulo:20221027T210000
DTSTAMP:20260422T012823
CREATED:20221031T115903Z
LAST-MODIFIED:20221223T205357Z
UID:5800-1666897200-1666904400@institutoivg.com.br
SUMMARY:NÓS POR ELAS - Fenômeno da Impostora
DESCRIPTION:
URL:https://institutoivg.com.br/event/nos-por-elas-fenomeno-da-impostora-3/
ATTACH;FMTTYPE=image/jpeg:https://institutoivg.com.br/wp-content/uploads/2022/11/npe-fenomeno-impostora-3.jpeg
END:VEVENT
END:VCALENDAR