
BEGIN:VCALENDAR
VERSION:2.0
PRODID:-//IVG - Instituto Vasselo Goldoni - ECPv6.15.20//NONSGML v1.0//EN
CALSCALE:GREGORIAN
METHOD:PUBLISH
X-WR-CALNAME:IVG - Instituto Vasselo Goldoni
X-ORIGINAL-URL:https://institutoivg.com.br
X-WR-CALDESC:Eventos para IVG - Instituto Vasselo Goldoni
REFRESH-INTERVAL;VALUE=DURATION:PT1H
X-Robots-Tag:noindex
X-PUBLISHED-TTL:PT1H
BEGIN:VTIMEZONE
TZID:America/Sao_Paulo
BEGIN:STANDARD
TZOFFSETFROM:-0300
TZOFFSETTO:-0300
TZNAME:-03
DTSTART:20210101T000000
END:STANDARD
END:VTIMEZONE
BEGIN:VEVENT
DTSTART;TZID=America/Sao_Paulo:20221101T190000
DTEND;TZID=America/Sao_Paulo:20221101T210000
DTSTAMP:20260421T231351
CREATED:20221103T160411Z
LAST-MODIFIED:20221223T205257Z
UID:5824-1667329200-1667336400@institutoivg.com.br
SUMMARY:NÓS POR ELAS - Potencializando o seu Currículo
DESCRIPTION:
URL:https://institutoivg.com.br/event/nos-por-elas-potencializando-o-seu-curriculo/
ATTACH;FMTTYPE=image/jpeg:https://institutoivg.com.br/wp-content/uploads/2022/11/npe-potencializando-curriculo.jpeg
END:VEVENT
BEGIN:VEVENT
DTSTART;TZID=America/Sao_Paulo:20221102T190000
DTEND;TZID=America/Sao_Paulo:20221102T210000
DTSTAMP:20260421T231351
CREATED:20221103T160510Z
LAST-MODIFIED:20221223T205213Z
UID:5828-1667415600-1667422800@institutoivg.com.br
SUMMARY:NÓS POR ELAS - Linkedin
DESCRIPTION:
URL:https://institutoivg.com.br/event/nos-por-elas-linkedin-3/
ATTACH;FMTTYPE=image/jpeg:https://institutoivg.com.br/wp-content/uploads/2022/11/npe-likedin.jpeg
END:VEVENT
BEGIN:VEVENT
DTSTART;TZID=America/Sao_Paulo:20221103T190000
DTEND;TZID=America/Sao_Paulo:20221103T210000
DTSTAMP:20260421T231351
CREATED:20221104T145344Z
LAST-MODIFIED:20221223T205132Z
UID:5832-1667502000-1667509200@institutoivg.com.br
SUMMARY:NÓS POR ELAS - Empreendedorismo
DESCRIPTION:
URL:https://institutoivg.com.br/event/nos-por-elas-empreendedorismo/
ATTACH;FMTTYPE=image/jpeg:https://institutoivg.com.br/wp-content/uploads/2022/11/npe-empreendedorismo.jpeg
END:VEVENT
BEGIN:VEVENT
DTSTART;TZID=America/Sao_Paulo:20221108T190000
DTEND;TZID=America/Sao_Paulo:20221108T210000
DTSTAMP:20260421T231351
CREATED:20221109T131939Z
LAST-MODIFIED:20221223T205050Z
UID:5851-1667934000-1667941200@institutoivg.com.br
SUMMARY:NÓS POR ELAS - Liderança Feminina
DESCRIPTION:
URL:https://institutoivg.com.br/event/nos-por-elas-lideranca-feminina-3/
ATTACH;FMTTYPE=image/jpeg:https://institutoivg.com.br/wp-content/uploads/2022/11/npe-lideranca-feminina.jpeg
END:VEVENT
BEGIN:VEVENT
DTSTART;TZID=America/Sao_Paulo:20221109T190000
DTEND;TZID=America/Sao_Paulo:20221109T210000
DTSTAMP:20260421T231351
CREATED:20221110T181302Z
LAST-MODIFIED:20221223T205019Z
UID:5862-1668020400-1668027600@institutoivg.com.br
SUMMARY:NÓS POR ELAS - Master Live - Como usar a Neurociência para promover a sua mudança com sucesso
DESCRIPTION:Bom dia queridos mentores!! 🌹 \nA Neurociência é a ciência que te auxilia a treinar o seu cérebro para desenvolver hábitos melhores. O cérebro tem tendência a repetir comportamentos e padrões\, com base em ambientes\, emoções e experiências. \nPara aprimorar habilidades difíceis com reflexões a respeito da sua rotina\, a palestrante da noite\, vai ajudar a planejar a mudança que precisa\, ajustando a criação de novos hábitos.\nO tema é muito interessante e apresenta resultados efetivos com pessoas interessadas em aumentar o desempenho e performance. \nSegue o link 👇👇\nhttps://us02web.zoom.us/j/82079032055?pwd=cm03VTYrUWhPTHFsa1ZuangySXBidz09 \nID da reunião: 820 7903 2055 Senha: 123456
URL:https://institutoivg.com.br/event/nos-por-elas-master-live-como-usar-a-neurociencia-para-promover-a-sua-mudanca-com-sucesso/
ATTACH;FMTTYPE=image/jpeg:https://institutoivg.com.br/wp-content/uploads/2022/11/npe-neurociencia.jpeg
END:VEVENT
BEGIN:VEVENT
DTSTART;TZID=America/Sao_Paulo:20221110T190000
DTEND;TZID=America/Sao_Paulo:20221110T210000
DTSTAMP:20260421T231351
CREATED:20221116T191157Z
LAST-MODIFIED:20221223T204945Z
UID:5894-1668106800-1668114000@institutoivg.com.br
SUMMARY:NÓS POR ELAS - Comunicar para Criar Conexões
DESCRIPTION:Olá\, bom dia! ☀️ \nIndependentemente do tipo de informalidade de uma organização\, a comunicação escrita é parte fundamental da empregabilidade. Assim\, escrever com objetividade promove a compreensão de uma ideia\, estreita relacionamentos e estabelece conexões confiáveis. E a melhor forma de atingir este objetivo é escolher o tipo de linguagem mais adequada para conversar com o seu interlocutor\, considerando o contexto que deseja e\, inclusive\, assumir o protagonismo com o que fala ou escreve. \nAchou complicado? Calma! A nossa palestrante de hoje\, Vivien Chivalski\, é uma comunicadora muito experiente\, além de promover uma aula capaz de esclarecer as dúvidas mais frequentes\, vai te ajudar a escolher os meios de comunicação para atingir os resultados que você busca nessa área.
URL:https://institutoivg.com.br/event/nos-por-elas-comunicar-para-criar-conexoes/
ATTACH;FMTTYPE=image/jpeg:https://institutoivg.com.br/wp-content/uploads/2022/11/npe-comunicar-criar-conexoes.jpeg
END:VEVENT
BEGIN:VEVENT
DTSTART;TZID=America/Sao_Paulo:20221115T190000
DTEND;TZID=America/Sao_Paulo:20221115T210000
DTSTAMP:20260421T231351
CREATED:20221116T191529Z
LAST-MODIFIED:20221223T204912Z
UID:5898-1668538800-1668546000@institutoivg.com.br
SUMMARY:NÓS POR ELAS - Live de Encerramento
DESCRIPTION:Olá mentores!! \nEstamos chegando na reta final da 14a edição do Nós Por Elas. Sim\, passou rápido e esta é a última semana de lives. \nPara a noite de hoje\, vocês vão contar com a presença de duas pessoas muito importantes pro IVG\, a Rosa Alba e a Glaucimar Peticov\, elas vêm de áreas de atuação diferentes\, mas o conteúdo que elas vão entregar será disruptivo\, repleto de orientações para a carreira e vida de vocês. Aliás\, disruptivo é um termo atual que significa romper com padrões. \nEstão preparadas para embarcar nesta jornada junto com a gente? 🚀🚀 \nEsperamos que sim!
URL:https://institutoivg.com.br/event/nos-por-elas-live-de-encerramento-2/
ATTACH;FMTTYPE=image/jpeg:https://institutoivg.com.br/wp-content/uploads/2022/11/npe-live-encerramento.jpeg
END:VEVENT
BEGIN:VEVENT
DTSTART;TZID=America/Sao_Paulo:20221116T190000
DTEND;TZID=America/Sao_Paulo:20221116T210000
DTSTAMP:20260421T231351
CREATED:20221121T140341Z
LAST-MODIFIED:20221223T204816Z
UID:5917-1668625200-1668632400@institutoivg.com.br
SUMMARY:NÓS POR ELAS - Propósito em Dose Dupla
DESCRIPTION:
URL:https://institutoivg.com.br/event/nos-por-elas-proposito-em-dose-dupla/
ATTACH;FMTTYPE=image/jpeg:https://institutoivg.com.br/wp-content/uploads/2022/11/npe-proposito-dosedupla.jpeg
END:VEVENT
BEGIN:VEVENT
DTSTART;TZID=America/Sao_Paulo:20221117T190000
DTEND;TZID=America/Sao_Paulo:20221117T210000
DTSTAMP:20260421T231351
CREATED:20221121T141119Z
LAST-MODIFIED:20221223T204229Z
UID:5921-1668711600-1668718800@institutoivg.com.br
SUMMARY:NÓS POR ELAS - Transformatura
DESCRIPTION:
URL:https://institutoivg.com.br/event/nos-por-elas-transformatura-3/
ATTACH;FMTTYPE=image/jpeg:https://institutoivg.com.br/wp-content/uploads/2022/11/npe-transformatura.jpeg
END:VEVENT
END:VCALENDAR